BEGIN:VCALENDAR
VERSION:2.0
PRODID:-//ChamberMaster//Event Calendar 2.0//EN
METHOD:PUBLISH
X-PUBLISHED-TTL:P3D
REFRESH-INTERVAL:P3D
CALSCALE:GREGORIAN
BEGIN:VEVENT
DTSTART:20201121T234500Z
DTEND:20201122T030000Z
X-MICROSOFT-CDO-ALLDAYEVENT:FALSE
SUMMARY:2020 FOLEPI Parade of Lights
DESCRIPTION:The Festival of Lights annual Parade of Lights covers two miles\, mainly along Washington Street and Taylor Street. The parade features floats shaped entirely from LED lights\, including Rudolph the Red-Nosed Reindeer\, the chopper motorcycle\, a 70-foot long float of the famous Clydesdale horse team pulling a delivery wagon\, Frosty the Snowman\, the starship Enterprise illuminated with 48\,000 lights\, and the 95-foot-long smoke-spewing dragon.\n\n\n\nClick here for a map of the route: https://www.cityofeastpeoria.com/DocumentCenter/View/879/Festival-of-LightsParade-Route-PDF?bidId=
X-ALT-DESC;FMTTYPE=text/html:<span style="color: rgb(0\, 0\, 0)\; font-family: Verdana\, Arial\, Helvetica\, sans-serif\; font-size: 11px\;">The Festival of Lights annual Parade of Lights covers two miles\, mainly along Washington Street and Taylor Street. The parade&nbsp\;features&nbsp\;floats shaped entirely from LED lights\, including&nbsp\;Rudolph the&nbsp\;Red-Nosed&nbsp\;Reindeer\, the chopper motorcycle\, a 70-foot long float of the famous Clydesdale horse team pulling a delivery wagon\, Frosty the Snowman\, the starship Enterprise illuminated with 48\,000 lights\, and the 95-foot-long smoke-spewing dragon.<br />\n<br />\nClick here for a map of the route:&nbsp\;</span>https://www.cityofeastpeoria.com/DocumentCenter/View/879/Festival-of-LightsParade-Route-PDF?bidId=&nbsp\;
LOCATION:Starts at intersection of East Washington Street and Dolans Lane in East Peoria
UID:e.526.6483
SEQUENCE:3
DTSTAMP:20260421T034951Z
URL:https://business.epcc.org/events/details/2020-folepi-parade-of-lights-6483
END:VEVENT

END:VCALENDAR
