BEGIN:VCALENDAR
VERSION:2.0
PRODID:-//ChamberMaster//Event Calendar 2.0//EN
METHOD:PUBLISH
X-PUBLISHED-TTL:P3D
REFRESH-INTERVAL:P3D
CALSCALE:GREGORIAN
BEGIN:VEVENT
DTSTART:20210708T223000Z
DTEND:20210709T020000Z
X-MICROSOFT-CDO-ALLDAYEVENT:FALSE
SUMMARY:2021 41st Annual Dinner - "Christmas in July"
DESCRIPTION:Celebrate on 7/8 - Join us for 'Christmas in July' during our 41st Annual Dinner! This year\, we want to give our members a chance to have fun and celebrate our Great Christmas Light Fight Heavyweight win in person\, along with our highly anticipated annual awards!\n\n\n\nDoors will open at 5:30 pm. Dinner will be served at 6:15 and the program will begin at 7:00. Casual dress and Santa hats are encouraged.\n\n\n\nAwards to be presented include: Ambassador of the Year\, Eco-Friendly Business of the Year\, Small Business of the Year\, Company of the Year\, Friend of the Community\, and Citizen of the Year.\n\n\n\nSponsorship + Table of 10 - $2500\n\nSponsorship + 4 Tickets - $1000\n\nSponsorship + 2 Tickets - $500\n\n\n\nTable of 10 - $550\n\nIndividual Ticket - $55\n\n\n\nContact us at (309) 699-6212 or email ashlyn@epcc.org or rick@epcc.org if you have any questions.\n\n\n\nThank you to our committed sponsors:
X-ALT-DESC;FMTTYPE=text/html:Celebrate on 7/8 - Join us for &#39\;Christmas in July&#39\; during our 41st Annual Dinner! This year\, we want to give our members a chance to have fun and celebrate our Great Christmas Light Fight Heavyweight win in person\, along with our highly anticipated annual awards!<br />\n<br />\nDoors will open at 5:30 pm. Dinner will be served at 6:15 and the program will begin at 7:00. Casual dress and Santa hats are encouraged.<br />\n<br />\nAwards to be presented include: Ambassador of the Year\, Eco-Friendly Business of the Year\, Small Business of the Year\, Company of the Year\, Friend of the Community\, and Citizen of the Year.<br />\n<br />\nSponsorship + Table of 10 - $2500<br />\nSponsorship + 4 Tickets - $1000<br />\nSponsorship + 2 Tickets - $500<br />\n<br />\nTable of 10 - $550<br />\nIndividual Ticket - $55<br />\n<br />\nContact us at (309) 699-6212 or email ashlyn@epcc.org or rick@epcc.org if you have any questions.<br />\n<br />\nThank you to our committed sponsors:
LOCATION:Par-A-Dice Hotel & Casino 21 Blackjack Blvd. East Peoria\, IL 61611
UID:e.526.6697
SEQUENCE:3
DTSTAMP:20260421T142509Z
URL:https://business.epcc.org/events/details/2021-41st-annual-dinner-christmas-in-july-6697
END:VEVENT

END:VCALENDAR
