BEGIN:VCALENDAR
VERSION:2.0
PRODID:-//ChamberMaster//Event Calendar 2.0//EN
METHOD:PUBLISH
X-PUBLISHED-TTL:P3D
REFRESH-INTERVAL:P3D
CALSCALE:GREGORIAN
BEGIN:VEVENT
DTSTART:20230415T160000Z
DTEND:20230415T220000Z
X-MICROSOFT-CDO-ALLDAYEVENT:FALSE
SUMMARY:2023 East Peoria Shop Hop!
DESCRIPTION:DON'T MISS THIS EPIC SHOPPING DAY IN EAST PEORIA! Gift baskets\, Treats\, Gift Cards\, Sales and more! Stop in one of the 6 participating local businesses to pick up a punch card and be sure to visit ALL six businesses to get your card punched!\n\nOnce you have visited all 6 places\, leave your punch card with the last business so that you can be entered in the drawings. All entries will be combined and the drawings for the gifts will take place on Tuesday\, April 15th. Winners will be notified and need not be present to win.\n\nPARTICIPATING MERCHANTS:\n\nThe Pickers Daughter-125/127/129 E. Washington St./130 McKinley\n\nVintique-119 E. Washington St.\n\nSweet Accents-435 Taylor St.\n\nEnough Stuff-422 E. Washington St.\, Ste.100\n\nCraftology-131 E. Washington St.\n\nRelics-200 McKinley St.
X-ALT-DESC;FMTTYPE=text/html:<div class="x11i5rnm xat24cr x1mh8g0r x1vvkbs xdj266r" style="margin: 0px\; overflow-wrap: break-word\; font-family: &quot\;Segoe UI Historic&quot\;\, &quot\;Segoe UI&quot\;\, Helvetica\, Arial\, sans-serif\; color: rgb(5\, 5\, 5)\; font-size: 15px\;">DON&#39\;T MISS THIS EPIC SHOPPING DAY IN EAST PEORIA! Gift baskets\, Treats\, Gift Cards\, Sales and more! Stop in one of the 6 participating local businesses to pick up a punch card and be sure to visit ALL six businesses to get your card punched!</div>\n\n<div class="x11i5rnm xat24cr x1mh8g0r x1vvkbs xtlvy1s" style="margin: 0.5em 0px 0px\; overflow-wrap: break-word\; font-family: &quot\;Segoe UI Historic&quot\;\, &quot\;Segoe UI&quot\;\, Helvetica\, Arial\, sans-serif\; color: rgb(5\, 5\, 5)\; font-size: 15px\;">Once you have visited all 6 places\, leave your punch card with the last business so that you can be entered in the drawings. All entries will be combined and the drawings for the gifts will take place on Tuesday\, April 15th. Winners will be notified and need not be present to win.</div>\n\n<div class="x11i5rnm xat24cr x1mh8g0r x1vvkbs xtlvy1s" style="margin: 0.5em 0px 0px\; overflow-wrap: break-word\; font-family: &quot\;Segoe UI Historic&quot\;\, &quot\;Segoe UI&quot\;\, Helvetica\, Arial\, sans-serif\; color: rgb(5\, 5\, 5)\; font-size: 15px\;">PARTICIPATING MERCHANTS:</div>\n\n<div class="x11i5rnm xat24cr x1mh8g0r x1vvkbs xtlvy1s" style="margin: 0.5em 0px 0px\; overflow-wrap: break-word\; font-family: &quot\;Segoe UI Historic&quot\;\, &quot\;Segoe UI&quot\;\, Helvetica\, Arial\, sans-serif\; color: rgb(5\, 5\, 5)\; font-size: 15px\;">The Pickers Daughter-125/127/129 E. Washington St./130 McKinley</div>\n\n<div class="x11i5rnm xat24cr x1mh8g0r x1vvkbs xtlvy1s" style="margin: 0.5em 0px 0px\; overflow-wrap: break-word\; font-family: &quot\;Segoe UI Historic&quot\;\, &quot\;Segoe UI&quot\;\, Helvetica\, Arial\, sans-serif\; color: rgb(5\, 5\, 5)\; font-size: 15px\;">Vintique-119 E. Washington St.</div>\n\n<div class="x11i5rnm xat24cr x1mh8g0r x1vvkbs xtlvy1s" style="margin: 0.5em 0px 0px\; overflow-wrap: break-word\; font-family: &quot\;Segoe UI Historic&quot\;\, &quot\;Segoe UI&quot\;\, Helvetica\, Arial\, sans-serif\; color: rgb(5\, 5\, 5)\; font-size: 15px\;">Sweet Accents-435 Taylor St.</div>\n\n<div class="x11i5rnm xat24cr x1mh8g0r x1vvkbs xtlvy1s" style="margin: 0.5em 0px 0px\; overflow-wrap: break-word\; font-family: &quot\;Segoe UI Historic&quot\;\, &quot\;Segoe UI&quot\;\, Helvetica\, Arial\, sans-serif\; color: rgb(5\, 5\, 5)\; font-size: 15px\;">Enough Stuff-422 E. Washington St.\, Ste.100</div>\n\n<div class="x11i5rnm xat24cr x1mh8g0r x1vvkbs xtlvy1s" style="margin: 0.5em 0px 0px\; overflow-wrap: break-word\; font-family: &quot\;Segoe UI Historic&quot\;\, &quot\;Segoe UI&quot\;\, Helvetica\, Arial\, sans-serif\; color: rgb(5\, 5\, 5)\; font-size: 15px\;">Craftology-131 E. Washington St.</div>\n\n<div class="x11i5rnm xat24cr x1mh8g0r x1vvkbs xtlvy1s" style="margin: 0.5em 0px 0px\; overflow-wrap: break-word\; font-family: &quot\;Segoe UI Historic&quot\;\, &quot\;Segoe UI&quot\;\, Helvetica\, Arial\, sans-serif\; color: rgb(5\, 5\, 5)\; font-size: 15px\;">Relics-200 McKinley St.</div>\n
LOCATION:The Pickers Daughter-125/127/129 E. Washington St./130 McKinley Vintique-119 E. Washington St. Sweet Accents-435 Taylor St. Enough Stuff-422 E. Washington St.\, Ste.100 Craftology-131 E. Washington St. Relics-200 McKinley St.
UID:e.526.7109
SEQUENCE:3
DTSTAMP:20260422T221751Z
URL:https://business.epcc.org/events/details/2023-east-peoria-shop-hop-7109
END:VEVENT

END:VCALENDAR
