BEGIN:VCALENDAR
VERSION:2.0
PRODID:-//ChamberMaster//Event Calendar 2.0//EN
METHOD:PUBLISH
X-PUBLISHED-TTL:P3D
REFRESH-INTERVAL:P3D
CALSCALE:GREGORIAN
BEGIN:VEVENT
DTSTART:20240627T203000Z
DTEND:20240627T220000Z
X-MICROSOFT-CDO-ALLDAYEVENT:FALSE
SUMMARY:Beginner’s AI Webinar
DESCRIPTION:The Turner Center for Entrepreneurship and Illinois Small Business Development Center at Bradley University is honored to present this captivating 5-part series of webinars and in-person AI training workshops at no cost to attendees. By attending the AI webinars\, you will learn the basic understanding of AI technology\, how it can be used to optimize your website\, and using Copilot to manage your business.  In our two in-person Canva (Part 1 and Part 2) workshops\, we start you out by exploring Canva's basic functionalities and understanding how AI can simplify the creation of visually appealing\, professional\, and effective designs. Then in the advanced session\, that is designed for small business owners who are familiar with Canva and ready to dive deeper into its powerful AI features to further enhance their marketing efforts.\n\n\n\nLearn the basic understanding of Artificial Intelligence (AI) technologies and the uses that are being applied in the business and social media arena. We will cover the platforms being used\, fears in the media\, and practical use of AI. Along with the fundamentals\, we will cover business automation examples and social media uses. We'll have a Q & A at the end with the speaker if time permits.\n\n \n\nTopics:\n\n	Brief Intro to Artificial Intelligence.\n	What are some of the different AI platforms available? \n	Help me understand AI using some practical examples.\n	Some examples of business automation using AI.\n	Using AI for Social Media to help my business.\n	Feedback\, Questions\, Live AI session.\n\n\n\nSpeakers:\n\nStacy Brooks\, SKB Cyber CEO\, specializes in sales\, marketing\, and public speaking. A former English teacher and speech coach turned CEO\, she co-founded SKB Cyber\, an innovative tech start-up with a mission to revolutionize how people learn and interact with information and technology. Stacy's unique blend of pedagogical insight and tech prowess has enabled her to create synergistic bridges between academia and industry\, serving as a testament to the limitless possibilities that arise when one's dedication meets the ever-evolving landscape of the digital age.    \n\n\n\nDan Hucal\, Technology Consultant Leader with SKB Cyber\, is a cross industry infrastructure expert specializing in technology assessment/audits and strategic development for IT digital transformations. He leads implementations and support of operations\, due diligence\, and cloud migration projects. A background of 25+ years of IT experience that covers almost all aspects of IT and levels of support on both the technical and management side of the industry.
X-ALT-DESC;FMTTYPE=text/html:<span style="font-family:times new roman\,serif"><span style="font-size:10.0pt">The Turner Center for Entrepreneurship and Illinois Small Business Development Center at Bradley University is honored to present this captivating 5-part series of webinars and in-person AI training workshops at no cost to attendees. By attending the AI webinars\, you will learn the basic understanding of AI technology\, how it can be used to optimize your website\, and using Copilot to manage your business.&nbsp\; In our two in-person Canva (Part 1 and Part 2) workshops\, we start you out by e<span style="color:#0D0D0D">xploring Canva&#39\;s basic functionalities and understanding how AI can simplify the creation of visually appealing\, professional\, and effective designs. Then in the advanced session\, that is designed for small business owners who are familiar with Canva and ready to dive deeper into its powerful AI features to further enhance their marketing efforts.</span></span></span><br />\n<br />\n<span style="font-family:times new roman\,serif"><span style="font-size:10.0pt">Learn the basic understanding of Artificial Intelligence (AI) technologies and the uses that are being applied in the business and social media arena. We will cover the platforms being used\, fears in the media\, and practical use of AI. Along with the fundamentals\, we will cover business automation examples and social media uses. We&rsquo\;ll have a Q &amp\; A at the end with the speaker if time permits.</span></span><br />\n&nbsp\;<br />\n<strong><span style="font-family:times new roman\,serif"><span style="font-size:10.0pt">Topics</span></span></strong><span style="font-family:times new roman\,serif"><span style="font-size:10.0pt">:</span></span>\n<ul>\n	<li><span style="font-family:times new roman\,serif"><span style="font-size:10.0pt">Brief Intro to Artificial Intelligence.</span></span></li>\n	<li><span style="font-family:times new roman\,serif"><span style="font-size:10.0pt">What are some of the different AI platforms available? </span></span></li>\n	<li><span style="font-family:times new roman\,serif"><span style="font-size:10.0pt">Help me understand AI using some practical examples.</span></span></li>\n	<li><span style="font-family:times new roman\,serif"><span style="font-size:10.0pt">Some examples of business automation using AI.</span></span></li>\n	<li><span style="font-family:times new roman\,serif"><span style="font-size:10.0pt">Using AI for Social Media to help my business.</span></span></li>\n	<li><span style="font-family:times new roman\,serif"><span style="font-size:10.0pt">Feedback\, Questions\, Live AI session.</span></span></li>\n</ul>\n<br />\n<strong><span style="font-family:times new roman\,serif"><span style="font-size:10.0pt">Speakers:</span></span></strong><br />\n<span style="color:rgb(14\, 16\, 26)\; font-family:times new roman\,serif\; font-size:10pt">Stacy Brooks\, SKB Cyber CEO\, specializes in sales\, marketing\, and public speaking. A former English teacher and speech coach turned CEO\, she co-founded SKB Cyber\, an innovative tech start-up with a mission to revolutionize how people learn and interact with information and technology. Stacy&#39\;s unique blend of pedagogical insight and tech prowess has enabled her to create synergistic bridges between academia and industry\, serving as a testament to the limitless possibilities that arise when one&#39\;s dedication meets the ever-evolving landscape of the digital age.</span>&nbsp\;&nbsp\;&nbsp\;&nbsp\;<br />\n<br />\n<span style="font-family:times new roman\,serif"><span style="font-size:10.0pt">Dan Hucal\, Technology Consultant Leader with SKB Cyber\, is a cross industry infrastructure expert specializing in technology assessment/audits and strategic development for IT digital transformations. He leads implementations and support of operations\, due diligence\, and cloud migration projects. A background of 25+ years of IT experience that covers almost all aspects of IT and levels of support on both the technical and management side of the industry.</span></span>
LOCATION:WEBINAR
UID:e.526.7384
SEQUENCE:3
DTSTAMP:20260421T142355Z
URL:https://business.epcc.org/events/details/beginner-s-ai-webinar-7384
END:VEVENT

END:VCALENDAR
