BEGIN:VCALENDAR
VERSION:2.0
PRODID:-//ChamberMaster//Event Calendar 2.0//EN
METHOD:PUBLISH
X-PUBLISHED-TTL:P3D
REFRESH-INTERVAL:P3D
CALSCALE:GREGORIAN
BEGIN:VEVENT
DTSTART:20221203T200000Z
DTEND:20221204T020000Z
X-MICROSOFT-CDO-ALLDAYEVENT:FALSE
SUMMARY:Christmas in the Village at Peoria Riverfront Museum
DESCRIPTION:Supports the Every Student Initiative\nSee Peoria's largest live Christmas tree\, enjoy live music and crafts\, and see your favorite holiday characters including the Festival of Lights soldier mascot Folepi. Christmas in the Village promises an afternoon and evening of family holiday fun.\n\nChristmas in the Village includes:\n\n\n	Peoria's largest live Christmas tree\n	Local vendors\, artisans and crafts\n	Live music\n	Ponies and live animals\n	Food trucks\n	Apperances by Santa Claus\, Folepi and the Peoria Ballet Nutcracker characters\n	Much more!\n\n\nThe Peoria Riverfront Museum exhibitions and the Planetarium will be open.\n\nMore Information\n\nVisit the Peoria Riverfront Museum website for more information about the event.
X-ALT-DESC;FMTTYPE=text/html:Supports the Every Student Initiative\n<p style="box-sizing: border-box\; margin-top: 0px\; margin-bottom: 1.4em\; border: 0px none\; color: rgb(62\, 62\, 62)\; font-family: Montserrat\; font-size: 15.2px\;">See Peoria&#39\;s largest live Christmas tree\, enjoy live music and crafts\, and see your favorite holiday characters including the Festival of Lights soldier mascot Folepi. Christmas in the Village promises an afternoon and evening of family holiday fun.</p>\n\n<p style="box-sizing: border-box\; margin-top: 0px\; margin-bottom: 1.4em\; border: 0px none\; color: rgb(62\, 62\, 62)\; font-family: Montserrat\; font-size: 15.2px\;">Christmas in the Village includes:</p>\n\n<ul style="box-sizing: border-box\; margin: 0px 0px 1.4em\; padding-right: 0px\; padding-left: 3em\; font-family: Montserrat\; color: rgb(62\, 62\, 62)\; line-height: 1.5\; border: 0px none\; list-style-type: circle\; font-size: 15.2px\;">\n	<li style="box-sizing: border-box\; margin-bottom: 0.35em\; border: 0px none\;">Peoria&#39\;s largest live Christmas tree</li>\n	<li style="box-sizing: border-box\; margin-bottom: 0.35em\; border: 0px none\;">Local vendors\, artisans and crafts</li>\n	<li style="box-sizing: border-box\; margin-bottom: 0.35em\; border: 0px none\;">Live music</li>\n	<li style="box-sizing: border-box\; margin-bottom: 0.35em\; border: 0px none\;">Ponies and live animals</li>\n	<li style="box-sizing: border-box\; margin-bottom: 0.35em\; border: 0px none\;">Food trucks</li>\n	<li style="box-sizing: border-box\; margin-bottom: 0.35em\; border: 0px none\;">Apperances by Santa Claus\, Folepi and the Peoria Ballet&nbsp\;<em style="box-sizing: border-box\;">Nutcracker</em>&nbsp\;characters</li>\n	<li style="box-sizing: border-box\; margin-bottom: 0.35em\; border: 0px none\;">Much more!</li>\n</ul>\n\n<p style="box-sizing: border-box\; margin-top: 0px\; margin-bottom: 1.4em\; border: 0px none\; color: rgb(62\, 62\, 62)\; font-family: Montserrat\; font-size: 15.2px\;">The Peoria Riverfront Museum exhibitions and the Planetarium will be open.</p>\n\n<h3 class="subhead2" style="box-sizing: border-box\; margin-top: 0px\; margin-bottom: 0px\; border: 0px none\; font-family: Montserrat\; color: rgb(23\, 55\, 84)\; font-size: 1.1em\;">More Information</h3>\n\n<p style="box-sizing: border-box\; margin-top: 0px\; margin-bottom: 1.4em\; border: 0px none\; color: rgb(62\, 62\, 62)\; font-family: Montserrat\; font-size: 15.2px\;"><a aria-label="Visit the Peoria Riverfront Museum website for more information about the event. Opens in new window" href="https://www.peoriariverfrontmuseum.org/" rel="noopener" style="box-sizing: border-box\; color: rgb(159\, 88\, 67)\;" target="_blank">Visit the Peoria Riverfront Museum website for more information about the event.</a></p>\n
LOCATION:Peoria Riverfront Museum 222 SW Washington Street Peoria\, IL
UID:e.526.7086
SEQUENCE:3
DTSTAMP:20260422T163601Z
URL:https://business.epcc.org/events/details/christmas-in-the-village-at-peoria-riverfront-museum-7086
END:VEVENT

END:VCALENDAR
