BEGIN:VCALENDAR
VERSION:2.0
PRODID:-//ChamberMaster//Event Calendar 2.0//EN
METHOD:PUBLISH
X-PUBLISHED-TTL:P3D
REFRESH-INTERVAL:P3D
CALSCALE:GREGORIAN
BEGIN:VEVENT
DTSTART:20230513T130000Z
DTEND:20230513T180000Z
X-MICROSOFT-CDO-ALLDAYEVENT:FALSE
SUMMARY:Church Rummage & Bake Sale
DESCRIPTION:We've spring cleaned & have treasures for you to buy! And have been busy baking so come indulge in some tasty treats for purchase. Pray for sunshine for both OUTDOOR & INDOOR shopping. See you there!
X-ALT-DESC;FMTTYPE=text/html:<span style="color:rgb(5\, 5\, 5)\; font-family:segoe ui historic\,segoe ui\,helvetica\,arial\,sans-serif\; font-size:15px">We&#39\;ve spring cleaned &amp\; have treasures for you to buy! And have been busy baking so come indulge in some tasty treats for purchase. Pray for sunshine for both OUTDOOR &amp\; INDOOR shopping. See you there!</span>
LOCATION:Immanuel Lutheran Church 526 E. Washington St\, East Peoria
UID:e.526.7142
SEQUENCE:3
DTSTAMP:20260422T221636Z
URL:https://business.epcc.org/events/details/church-rummage-bake-sale-7142
END:VEVENT

END:VCALENDAR
