BEGIN:VCALENDAR
VERSION:2.0
PRODID:-//ChamberMaster//Event Calendar 2.0//EN
METHOD:PUBLISH
X-PUBLISHED-TTL:P3D
REFRESH-INTERVAL:P3D
CALSCALE:GREGORIAN
BEGIN:VEVENT
DTSTART:20190803T170000Z
DTEND:20190803T200000Z
X-MICROSOFT-CDO-ALLDAYEVENT:FALSE
SUMMARY:Wheels O' Time - Civil War Reenactors
DESCRIPTION:Visit with a Civil War surgeon during your visit to the Wheels O' Time Museum! Ron Kirchgessner portrays Major Richard Conover\, Surgeon for the 108th Illinois. Major Conover\, a native of Eureka\, IL\, served in the Civil War from August 28\, 1862 until August 5\, 1865.\n\n\n\nRegular admission rates apply.
X-ALT-DESC;FMTTYPE=text/html:<span style="color:rgb(29\, 33\, 41)\; font-family:system-ui\,-apple-system\,system-ui\,.sfnstext-regular\,sans-serif\; font-size:14px">Visit with a Civil War surgeon during your visit to the Wheels O&rsquo\; Time Museum! Ron Kirchgessner portrays Major Richard Conover\, Surgeon for the 108th Illinois. Major Conover\, a native of Eureka\, IL\, served in the Civil War from August 28\, 1862 until August 5\, 1865.</span><br />\n<br />\n<span style="color:rgb(29\, 33\, 41)\; font-family:system-ui\,-apple-system\,system-ui\,.sfnstext-regular\,sans-serif\; font-size:14px">Regular admission rates apply.</span>
LOCATION:Wheels O' Time Museum
UID:e.526.6165
SEQUENCE:3
DTSTAMP:20260420T140155Z
URL:https://business.epcc.org/events/details/civil-war-reenactors-6165
END:VEVENT

END:VCALENDAR
