BEGIN:VCALENDAR
VERSION:2.0
PRODID:-//ChamberMaster//Event Calendar 2.0//EN
METHOD:PUBLISH
X-PUBLISHED-TTL:P3D
REFRESH-INTERVAL:P3D
CALSCALE:GREGORIAN
BEGIN:VEVENT
DTSTART:20150724T230000Z
DTEND:20150725T040000Z
X-MICROSOFT-CDO-ALLDAYEVENT:FALSE
SUMMARY:Detweiller at Dark to Benefit JDRF
DESCRIPTION:WHAT: The most unique XC Race in the Nation!  On the most historic course - the IHSA State course at Detweiller. \n\n \n\nWHEN & WHERE: Detweiller Park - Peoria\, IL    Friday\, July 24\, 2015  \n\n \n\nWHY: See how your summer training is going and run under the lights!  And $5 of every registration goes to JDRF to help find a cure for Type 1 diabetes!  \n\n \n\nCOST: Detweiller at Dark is:\n\n\n	$30 through April 30\n	$35 May 1 - May 31\n	$40 June 1 - July 12\n	$45 July 13 - July 23\n	$50 on Race Day\n\n\nREGISTRATION:  \n\n\n	Paper App for Teams - Click Here   \n	Online Registration - Click Here
X-ALT-DESC;FMTTYPE=text/html:<div><strong>WHAT:&nbsp\;</strong>The most unique XC Race in the Nation! &nbsp\;On the most historic course - the IHSA State course at Detweiller.&nbsp\;</div>\n\n<div>&nbsp\;</div>\n\n<div><strong>WHEN &amp\; WHERE:</strong>&nbsp\;Detweiller Park - Peoria\, IL &nbsp\; &nbsp\;Friday\, July 24\, 2015 &nbsp\;</div>\n\n<div>&nbsp\;</div>\n\n<div><strong>WHY:</strong>&nbsp\;See how your summer training is going and run under the lights! &nbsp\;And $5 of every registration goes to JDRF to help find a cure for Type 1 diabetes!&nbsp\;&nbsp\;<br />\n&nbsp\;</div>\n\n<div><strong>COST:&nbsp\;</strong>Detweiller at Dark is:</div>\n\n<ul>\n	<li>$30 through April 30</li>\n	<li>$35 May 1 -&nbsp\;May 31</li>\n	<li>$40 June 1 - July 12</li>\n	<li>$45 July 13 - July 23</li>\n	<li>$50 on Race Day</li>\n</ul>\n\n<p><strong>REGISTRATION: &nbsp\;</strong></p>\n\n<ul>\n	<li>Paper App for Teams -&nbsp\;<a href="http://www.detweilleratdark.com/sites/all/files/dadapp.pdf" style="margin: 0px\; padding: 0px\; outline: 0px\; border: 0px currentColor\; border-image: none\; color: rgb(244\, 71\, 58)\; line-height: inherit\; font-family: inherit\; font-size: 18px\; font-style: inherit\; font-variant: inherit\; font-weight: inherit\; text-decoration: none\; vertical-align: baseline\; box-sizing: border-box\; font-stretch: inherit\;" target="_blank">Click Here</a>&nbsp\; &nbsp\;</li>\n	<li>Online Registration -&nbsp\;<a class="ext" href="https://register.chronotrack.com/reg/form?eventID=13687" style="margin: 0px\; padding: 0px\; outline: 0px\; border: 0px currentColor\; border-image: none\; color: rgb(244\, 71\, 58)\; line-height: inherit\; font-family: inherit\; font-size: 18px\; font-style: inherit\; font-variant: inherit\; font-weight: inherit\; text-decoration: none\; vertical-align: baseline\; box-sizing: border-box\; font-stretch: inherit\;" target="_blank">Click Here</a></li>\n</ul>\n
LOCATION:Detweiller Park
UID:e.526.1705
SEQUENCE:3
DTSTAMP:20260425T015822Z
URL:https://business.epcc.org/events/details/detweiller-at-dark-to-benefit-jdrf-07-24-2015-1705
END:VEVENT

END:VCALENDAR
