BEGIN:VCALENDAR
VERSION:2.0
PRODID:-//ChamberMaster//Event Calendar 2.0//EN
METHOD:PUBLISH
X-PUBLISHED-TTL:P3D
REFRESH-INTERVAL:P3D
CALSCALE:GREGORIAN
BEGIN:VEVENT
DTSTART:20190618T133000Z
DTEND:20190618T153000Z
X-MICROSOFT-CDO-ALLDAYEVENT:FALSE
SUMMARY:Digital Marketing Summit with The Journal Star & ThriveHive
DESCRIPTION:Join The Journal Star and ThriveHive for a Digital Marketing Seminar at the Peoria Marriott Pere Marquette on June 18! Small business owners can learn how to drive sales and reach more customers from Google Certified Speaker Stacey McKibbon. The program will begin at 8:30am with breakfast and networking\, followed by the seminar at 9:00am.
X-ALT-DESC;FMTTYPE=text/html:<strong><span style="color:black\;"><span style="font-family:arial\,sans-serif\;">Join The Journal Star and ThriveHive for a Digital Marketing Seminar at the Peoria Marriott Pere Marquette on June 18! Small business owners can learn how to drive sales and reach more customers from Google Certified Speaker Stacey McKibbon. The program will begin at 8:30am with breakfast and networking\, followed by the seminar at 9:00am.</span></span></strong>
LOCATION:Peoria Marriott Pere Marquette 501 Main Street Peoria\, IL 61602
UID:e.526.6090
SEQUENCE:3
DTSTAMP:20260420T170226Z
URL:https://business.epcc.org/events/details/digital-marketing-summit-with-the-journal-star-thrivehive-6090
END:VEVENT

END:VCALENDAR
