BEGIN:VCALENDAR
VERSION:2.0
PRODID:-//ChamberMaster//Event Calendar 2.0//EN
METHOD:PUBLISH
X-PUBLISHED-TTL:P3D
REFRESH-INTERVAL:P3D
CALSCALE:GREGORIAN
BEGIN:VEVENT
DTSTART:20230425T203000Z
DTEND:20230425T220000Z
X-MICROSOFT-CDO-ALLDAYEVENT:FALSE
SUMMARY:Disadvantaged Business Enterprise Certification Process Workshop
DESCRIPTION:The DBE program is a federally mandated program intended to insure non-discriminatory contracting opportunities for small business concerns owned and controlled by socially and economically disadvantaged individuals in the U.S. Department of Transportation's (USDOT)\, highway\, mass transit\, and airport financial assistance programs.  The Illinois Procurement Technical Assistance Center (PTAC)/APEX Accelerator\, at Bradley University is sponsoring this training at no cost to attendees.\n\nThe DBE Program\, administered by the Illinois Department of Transportation (IDOT)\, provides minorities\, women\, and other eligible small businesses an opportunity to participate in highway\, mass transit\, and airport contracts that are federal AND state funded.\n\n\n\nCo-sponsored by Illinois Small Business Development Center and SCORE Peoria\n\n\n\nMr. Blackwell has been with the Illinois Department of Transportation (IDOT) for over 14 years.  He initially accepted a position with the department's Bureau of Small Business Enterprises' (SBE)\, in the certification section as a certification analyst in 1990\, left the department in 1995 and returned in 2013.  In 2020 Mr. Blackwell was promoted to the position of certification Northern Unit Manager.  He continues to serve in that capacity.
X-ALT-DESC;FMTTYPE=text/html:&nbsp\;&nbsp\;\n<p>The DBE program is a federally mandated program intended to insure non-discriminatory contracting opportunities for small business concerns owned and controlled by socially and economically disadvantaged individuals in the U.S. Department of Transportation&rsquo\;s (USDOT)\, highway\, mass transit\, and airport financial assistance programs.&nbsp\; The Illinois Procurement Technical Assistance Center (PTAC)/APEX Accelerator\, at Bradley University is sponsoring this training at <strong>no cost</strong> to attendees.<br />\nThe DBE Program\, administered by the Illinois Department of Transportation (IDOT)\, provides minorities\, women\, and other eligible small businesses an opportunity to participate in highway\, mass transit\, and airport contracts that are federal AND state funded.<br />\n<br />\nCo-sponsored by Illinois Small Business Development Center and SCORE Peoria<br />\n<br />\nMr. Blackwell has been with the Illinois Department of Transportation (IDOT) for over 14 years.&nbsp\; He initially accepted a position with the department&rsquo\;s Bureau of Small Business Enterprises&rsquo\; (SBE)\, in the certification section as a certification analyst in 1990\, left the department in 1995 and returned in 2013.&nbsp\; In 2020 Mr. Blackwell was promoted to the position of certification Northern Unit Manager.&nbsp\; He continues to serve in that capacity.&nbsp\;</p>\n
LOCATION:Online Zoom workshop. Register here: https://ilsbdc.ecenterdirect.com/events/37595
UID:e.526.7136
SEQUENCE:3
DTSTAMP:20260422T221435Z
URL:https://business.epcc.org/events/details/disadvantaged-business-enterprise-certification-process-workshop-7136
END:VEVENT

END:VCALENDAR
