BEGIN:VCALENDAR
VERSION:2.0
PRODID:-//ChamberMaster//Event Calendar 2.0//EN
METHOD:PUBLISH
X-PUBLISHED-TTL:P3D
REFRESH-INTERVAL:P3D
CALSCALE:GREGORIAN
BEGIN:VEVENT
DTSTART:20160608T150000Z
DTEND:20160608T160000Z
X-MICROSOFT-CDO-ALLDAYEVENT:FALSE
SUMMARY:DOL Overtime Rule - What you Need to Know Now - Webinar
DESCRIPTION:Join the EPCC at our office as Juliie Proscia\, Partner\, SMithAdmundsen LLC\, shares with us what we need to do now before the new ruling takes effect and what we'll need to do after it takes effect.\n\n\n\nSponsored by the Illinois Association of Chamber of Commerce Executives
X-ALT-DESC;FMTTYPE=text/html:Join the EPCC at our office as&nbsp\;Juliie Proscia\, Partner\, SMithAdmundsen LLC\, shares with us what we need to do now before the new ruling takes effect and what we&#39\;ll need to do after it takes effect.<br />\n<br />\nSponsored by the Illinois Association of Chamber&nbsp\;of Commerce Executives
LOCATION:Webinar 201 Clock Tower Drive\, 2nd floor East Peoria\, IL. 61611
UID:e.526.3146
SEQUENCE:3
DTSTAMP:20260424T110948Z
URL:https://business.epcc.org/events/details/dol-overtime-rule-what-you-need-to-know-now-webinar-06-08-2016-3146
END:VEVENT

END:VCALENDAR
