BEGIN:VCALENDAR
VERSION:2.0
PRODID:-//ChamberMaster//Event Calendar 2.0//EN
METHOD:PUBLISH
X-PUBLISHED-TTL:P3D
REFRESH-INTERVAL:P3D
CALSCALE:GREGORIAN
BEGIN:VEVENT
DTSTART:20190821T223000Z
DTEND:20190822T013000Z
X-MICROSOFT-CDO-ALLDAYEVENT:FALSE
SUMMARY:Duck Tagging Event for Duck Race
DESCRIPTION:Help us get the ducks ready for the big Race Day!! We will be taking the old stickers off the bottoms of the ducks and putting new ones on! And come hungry\, Moe's is catering a yummy meal!
X-ALT-DESC;FMTTYPE=text/html:<span style="color: rgb(53\, 93\, 126)\; font-family: Helvetica\, Arial\, sans-serif\; font-size: 16px\; background-color: rgb(150\, 231\, 244)\;">Help us get the ducks ready for the big Race Day!! We will be taking the old stickers off the bottoms of the ducks and putting new ones on! And come hungry\, Moe&#39\;s is catering a yummy meal!</span>
LOCATION:Eastside Centre East Peoria\, IL 61611
UID:e.526.6169
SEQUENCE:3
DTSTAMP:20260420T123908Z
URL:https://business.epcc.org/events/details/duck-tagging-event-for-duck-race-6169
END:VEVENT

END:VCALENDAR
