BEGIN:VCALENDAR
VERSION:2.0
PRODID:-//ChamberMaster//Event Calendar 2.0//EN
METHOD:PUBLISH
X-PUBLISHED-TTL:P3D
REFRESH-INTERVAL:P3D
CALSCALE:GREGORIAN
BEGIN:VEVENT
DTSTART:20190624T180000Z
DTEND:20190624T193000Z
X-MICROSOFT-CDO-ALLDAYEVENT:FALSE
SUMMARY:e-Commerce for Main Street Businesses
DESCRIPTION:Sharing specific strategies and tools to align using mixed platform of brick & morter and e-commerce!\n\nNo cost to attend\n\nLight refreshments will be provided
X-ALT-DESC;FMTTYPE=text/html:Sharing specific strategies and tools to align using mixed platform of brick &amp\; morter and e-commerce!<br />\nNo cost to attend<br />\nLight refreshments will be provided
LOCATION:East Peoria Clock Tower Plaza Bridgeview Room on the third floor 201 Clock Tower Drive East Peoria\, IL 61611
UID:e.526.6082
SEQUENCE:3
DTSTAMP:20260420T153329Z
URL:https://business.epcc.org/events/details/e-commerce-for-main-street-businesses-6082
END:VEVENT

END:VCALENDAR
