BEGIN:VCALENDAR
VERSION:2.0
PRODID:-//ChamberMaster//Event Calendar 2.0//EN
METHOD:PUBLISH
X-PUBLISHED-TTL:P3D
REFRESH-INTERVAL:P3D
CALSCALE:GREGORIAN
BEGIN:VEVENT
DTSTART:20190315T220000Z
DTEND:20190316T000000Z
X-MICROSOFT-CDO-ALLDAYEVENT:FALSE
SUMMARY:EARN Networking Social at McMahon's Pints & Plates
DESCRIPTION:Do you own a business on the east side of the river? Do you want to grow and expand your business? Join us for a night of complimentary hors d'oeuvres\, networking\, education\, and entrepreneurial camaraderie as the East Area Referral Network. This will be rewarding for you\, if you want to connect with other businesses that call the east side of the river their home. We will begin to gather at 5pm and networking and introductions will begin at 6. You will hear from current members of this network who will educate you about the benefits of membership. This will be a great way to get to know your fellow entrepreneurial neighbors and learn more about how to help each other grow your businesses. We hope to see you there!
X-ALT-DESC;FMTTYPE=text/html:<span style="color:rgb(29\, 33\, 41)\; font-family:helvetica\,arial\,sans-serif\; font-size:14px">Do you own a business on the east side of the river? Do you want to grow and expand your business? Join us for a night of complimentary hors d&#39\;oeuvres\, networking\, education\, and entrepreneurial camaraderie as the East Area Referral Network. This will be rewarding for you\, if you want to connect with other businesses that call the east side of the river their home. We will begin to gather at 5pm and networking and introductions will begin at 6. You will hear from current members of this network who will educate you about the benefits of membership. This will be a great way to get to know your fellow entrepreneurial neighbors and learn more about how to help each other grow your businesses. We hope to see you there!</span>
LOCATION:
UID:e.526.5980
SEQUENCE:3
DTSTAMP:20260420T201033Z
URL:https://business.epcc.org/events/details/earn-networking-social-at-mcmahon-s-pints-plates-5980
END:VEVENT

END:VCALENDAR
