BEGIN:VCALENDAR
VERSION:2.0
PRODID:-//ChamberMaster//Event Calendar 2.0//EN
METHOD:PUBLISH
X-PUBLISHED-TTL:P3D
REFRESH-INTERVAL:P3D
CALSCALE:GREGORIAN
BEGIN:VEVENT
DTSTART:20220830T220000Z
DTEND:20220831T020000Z
X-MICROSOFT-CDO-ALLDAYEVENT:FALSE
SUMMARY:East Peoria Chamber of Commerce's 42nd Annual Dinner
DESCRIPTION:Please join the East Peoria Chamber of Commerce for our 42nd Annual Dinner to celebrate our community of Chamber members and present our annual awards.\n\n\n\nOur 2022 Annual Dinner will be held on Tuesday\, August 30th from 5:00-9:00 pm at the Par-A-Dice Hotel in East Peoria. We will hear from our keynote speaker\, Bradley Men's Basketball Coach Brian Wardle\, and present the following awards:\n\n\n\nAmbassador of the Year\, Eco-Friendly Business of the Year\, Small Business of the Year\, Company of the Year\, Friend of the Community\, and Citizen of the Year.\n\n\n\nDoors will open at 5:00 pm. Dinner will be served at 6:00 and the program will begin at 7:00.\n\n\n\nIndividual Ticket - $55 | Table of 10 - $550\n\n\n\nSponsorship + Table of 10 - $2500\n\nSponsorship + 4 Tickets - $1000\n\nSponsorship + 2 Tickets - $500\n\n\n\nContact us at (309) 699-6212 or email rick@epcc.org if you have any questions.\n\n\n\nThank you to our committed sponsors:
X-ALT-DESC;FMTTYPE=text/html:Please join the East Peoria Chamber of Commerce for our 42nd Annual Dinner to celebrate our community of Chamber members and present our annual awards.<br />\n<br />\nOur 2022 Annual Dinner will be held on Tuesday\, August 30th from 5:00-9:00 pm at the Par-A-Dice Hotel in East Peoria. We will hear from our keynote speaker\, Bradley Men&#39\;s Basketball Coach Brian Wardle\, and present the following awards:<br />\n<br />\nAmbassador of the Year\, Eco-Friendly Business of the Year\, Small Business of the Year\, Company of the Year\, Friend of the Community\, and Citizen of the Year.<br />\n<br />\nDoors will open at 5:00 pm. Dinner will be served at 6:00 and the program will begin at 7:00.<br />\n<br />\nIndividual Ticket - $55 | Table of 10 - $550<br />\n<br />\n<a href="https://files.constantcontact.com/7d7df4bb001/a40a899e-bf1b-497e-92ed-bee31f242502.pdf">Sponsorship + Table of 10 - $2500<br />\nSponsorship + 4 Tickets - $1000<br />\nSponsorship + 2 Tickets - $500</a><br />\n<br />\nContact us at (309) 699-6212 or email rick@epcc.org if you have any questions.<br />\n<br />\nThank you to our committed sponsors:
LOCATION:Par-A-Dice Hotel & Casino 21 Blackjack Blvd. East Peoria\, IL 61611
UID:e.526.6995
SEQUENCE:3
DTSTAMP:20260422T102742Z
URL:https://business.epcc.org/events/details/east-peoria-chamber-of-commerce-s-42nd-annual-dinner-6995
END:VEVENT

END:VCALENDAR
