BEGIN:VCALENDAR
VERSION:2.0
PRODID:-//ChamberMaster//Event Calendar 2.0//EN
METHOD:PUBLISH
X-PUBLISHED-TTL:P3D
REFRESH-INTERVAL:P3D
CALSCALE:GREGORIAN
BEGIN:VEVENT
DTSTART:20190823T210000Z
DTEND:20190824T000000Z
X-MICROSOFT-CDO-ALLDAYEVENT:FALSE
SUMMARY:East Peoria Farmer's Market
DESCRIPTION:Fruits\, veggies\, home decor and more!
X-ALT-DESC;FMTTYPE=text/html:<p style="box-sizing: border-box\; margin-top: 0px\; margin-bottom: 1.4em\; border: 0px none\; color: rgb(0\, 0\, 0)\; font-family: sans-serif\; font-size: 16px\;"><strong>Fruits\, veggies\, home decor and more!</strong></p>\n
LOCATION:The Levee District on the Pedestrian Promenade (between Target & Gordmans)
UID:e.526.6046
SEQUENCE:3
DTSTAMP:20260420T124323Z
URL:https://business.epcc.org/events/details/east-peoria-farmer-s-market-08-23-2019-6046
END:VEVENT

END:VCALENDAR
