BEGIN:VCALENDAR
VERSION:2.0
PRODID:-//ChamberMaster//Event Calendar 2.0//EN
METHOD:PUBLISH
X-PUBLISHED-TTL:P3D
REFRESH-INTERVAL:P3D
CALSCALE:GREGORIAN
BEGIN:VEVENT
DTSTART:20171022T190000Z
DTEND:20171022T200000Z
X-MICROSOFT-CDO-ALLDAYEVENT:FALSE
SUMMARY:East Peoria Historical Society Quarterly Meeting
DESCRIPTION:The East Peoria Historical Society will hold its Quarterly meeting at 2:00 PM October 22\, 2017\n\nin the meeting rooms adjacent to the Fondulac Library Atrium. \n\n\n\nMark Lasswell will present a film on East Peoria.\n\n\n\nElection will be held with the nominating committee offering the following nominations: President\, Frank Borror\; Vice-President\,  Robert Cole\; Secretary\, Kay Druin\; Treasurer\, Mischelle Brooke\; Corresponding Secretary\, Jan Borror and to finish an unexpired term as Director\, Ken Christianson.\n\n\n\nRefreshments will be served.
X-ALT-DESC;FMTTYPE=text/html:<span style="font-size: 10pt\;"><span style="font-family: arial\,sans-serif\;">The East Peoria Historical Society will hold its Quarterly meeting at 2:00 PM October 22\, 2017<br />\nin the meeting rooms adjacent to the Fondulac Library Atrium.&nbsp\;<br />\n<br />\nMark Lasswell will present a film on East Peoria.<br />\n<br />\nElection will be held with the nominating committee offering the following nominations: President\, Frank Borror\; Vice-President\,&nbsp\; Robert Cole\; Secretary\, Kay Druin\; Treasurer\, Mischelle Brooke\; Corresponding Secretary\, Jan Borror and to finish an unexpired term as Director\, Ken Christianson.<br />\n<br />\nRefreshments will be served.</span></span><br />\n&nbsp\;
LOCATION:Fondulac Library Atrium 400 Richland St. East Peoria\, IL. 61611
UID:e.526.4407
SEQUENCE:3
DTSTAMP:20260422T014843Z
URL:https://business.epcc.org/events/details/east-peoria-historical-society-quarterly-meeting-4407
END:VEVENT

END:VCALENDAR
