BEGIN:VCALENDAR
VERSION:2.0
PRODID:-//ChamberMaster//Event Calendar 2.0//EN
METHOD:PUBLISH
X-PUBLISHED-TTL:P3D
REFRESH-INTERVAL:P3D
CALSCALE:GREGORIAN
BEGIN:VEVENT
DTSTART:20170819T233000Z
DTEND:20170820T030000Z
X-MICROSOFT-CDO-ALLDAYEVENT:FALSE
SUMMARY:East Peoria Night at Dozer Park
DESCRIPTION:August 19 is East Peoria Night with the Peoria Chiefs! Buy tickets online and use promo code EAST PEORIA for $8 tickets\, or print and complete the order form below for the same offer!\n\n\n\nClick here to download the order form!
X-ALT-DESC;FMTTYPE=text/html:August 19 is East Peoria Night with the Peoria Chiefs! Buy tickets online and use promo code EAST PEORIA for $8 tickets\, or print and complete the order form below for the same offer!<br />\n<br />\n<a href="https://chambermaster.blob.core.windows.net/userfiles/UserFiles/chambers/526/File/EastPeoriaNight.pdf">Click here to download the order form!</a><br />\n&nbsp\;
LOCATION:Dozer Park\, Home of the Peoria Chiefs 730 SW Jefferson Avenue Peoria\, IL 61605
UID:e.526.4337
SEQUENCE:3
DTSTAMP:20260422T043036Z
URL:https://business.epcc.org/events/details/east-peoria-night-at-dozer-park-4337
END:VEVENT

END:VCALENDAR
