BEGIN:VCALENDAR
VERSION:2.0
PRODID:-//ChamberMaster//Event Calendar 2.0//EN
METHOD:PUBLISH
X-PUBLISHED-TTL:P3D
REFRESH-INTERVAL:P3D
CALSCALE:GREGORIAN
BEGIN:VEVENT
DTSTART:20190730T233500Z
DTEND:20190731T020000Z
X-MICROSOFT-CDO-ALLDAYEVENT:FALSE
SUMMARY:East Peoria Night at the Peoria Chiefs
DESCRIPTION:Peoria Chiefs vs Kane County Cougars\n\nCome bring your family and friends to a Chiefs game and support the community of East Peoria as we will be having an East Peoria Community Night here at the ballpark! The game is Tuesday July 30th against the Kane County Cougars with a 6:35pm start time. Tickets are only $10. The night is also Taco Tuesday as tacos are only $2.Any questions you can send Zach an email at zachk@chiefsnet.org or give him a call at 309-680-4021
X-ALT-DESC;FMTTYPE=text/html:<span style="color: rgb(29\, 33\, 41)\; font-family: Helvetica\, Arial\, sans-serif\; font-size: 14px\; white-space: pre-wrap\;">Peoria Chiefs vs Kane County Cougars</span><br style="color: rgb(29\, 33\, 41)\; font-family: Helvetica\, Arial\, sans-serif\; font-size: 14px\; white-space: pre-wrap\;" />\n<span style="color: rgb(29\, 33\, 41)\; font-family: Helvetica\, Arial\, sans-serif\; font-size: 14px\; white-space: pre-wrap\;">Come bring your family and friends to a Chiefs game and support the community of East Peoria as we will be having an East Peoria Community Night here at the ballpark! The game is Tuesday July 30th against the Kane County Cougars with a 6:35pm start time. Tickets are only $10. The night is also Taco Tuesday as tacos are only $2.Any questions you can send Zach an email at zachk@chiefsnet.org or give him a call at 309-680-4021</span>
LOCATION:
UID:e.526.6140
SEQUENCE:3
DTSTAMP:20260420T141226Z
URL:https://business.epcc.org/events/details/east-peoria-night-at-the-peoria-chiefs-6140
END:VEVENT

END:VCALENDAR
