BEGIN:VCALENDAR
VERSION:2.0
PRODID:-//ChamberMaster//Event Calendar 2.0//EN
METHOD:PUBLISH
X-PUBLISHED-TTL:P3D
REFRESH-INTERVAL:P3D
CALSCALE:GREGORIAN
BEGIN:VEVENT
DTSTART:20200609T130000Z
DTEND:20200609T160000Z
X-MICROSOFT-CDO-ALLDAYEVENT:FALSE
SUMMARY:East Peoria Public Servants Blood Drive
DESCRIPTION:BLOOD DONATION IS SAFE. Blood drives and donor centers are safe environments where staff and donors are screened to be sure they are healthy and well and have not been exposed to the virus to be present. They are not mass gatherings\, for the purpose of social distancing. \n\n \n\nBLOOD DEMAND IS INCREASING\, as hospitals have eased restrictions on elective surgeries and are now providing treatment options that were previously postponed. \n\n \n\nTo ensure safety and adhere to social distancing\, ALL DONORS must schedule appointments.\n\nPer CDC guidelines\, all donors will be required to wear a face covering or mask when donating. If you have questions\, please contact the blood center.\n\nAll types needed!  Critical need for all negative blood types and type O positive!\n\n\n\nEast Peoria Public Servants Blood Drive\n\nTuesday\, June 9\n\n8:00 AM   11:00 AM\n\nTo schedule an appointment click here.\n\nFestival of Lights Building
X-ALT-DESC;FMTTYPE=text/html:<strong><span style="color:black\;"><span style="font-family:arial\,sans-serif\;">BLOOD DONATION IS SAFE</span></span></strong><span style="color:black\;"><span style="font-family:arial\,sans-serif\;">. Blood drives and donor centers are safe environments where staff and donors are screened to be sure they are healthy and well and have not been exposed to the virus to be present. They are not mass gatherings\, for the purpose of social distancing. </span></span><br />\n&nbsp\;<br />\n<strong><span style="color:black\;"><span style="font-family:arial\,sans-serif\;"><span style="font-size:12.0pt\;">BLOOD DEMAND IS INCREASING</span></span></span></strong><span style="color:black\;"><span style="font-family:arial\,sans-serif\;"><span style="font-size:12.0pt\;">\, as hospitals have eased restrictions on elective surgeries and are now providing treatment options that were previously postponed. </span></span></span><br />\n&nbsp\;<br />\n<strong><span style="color:#C00000\;"><span style="font-family:arial\,sans-serif\;"><span style="font-size:12.0pt\;">To ensure safety and adhere to social distancing\, ALL DONORS must schedule appointments</span></span></span></strong><strong><span style="color:black\;"><span style="font-family:arial\,sans-serif\;"><span style="font-size:12.0pt\;">.</span></span></span></strong><br />\n<strong><span style="color:#C00000\;"><span style="font-family:arial\,sans-serif\;"><span style="font-size:12.0pt\;">Per CDC guidelines\, all donors will be required to wear a face covering or mask when donating. If you have questions\, please contact the blood center.</span></span></span></strong><br />\n<strong><u><span style="color:#0070C0\;"><span style="font-size:16.0pt\;">All types needed!&nbsp\; Critical need for all negative blood types and type O positive!</span></span></u></strong><br />\n<br />\n<strong><u><span style="color:black\;"><span style="font-family:arial\,sans-serif\;"><span style="font-size:16.0pt\;">East Peoria Public Servants Blood Drive</span></span></span></u></strong><br />\n<span style="color:black\;"><span style="font-family:arial\,sans-serif\;"><span style="font-size:16.0pt\;">Tuesday\, June 9</span></span></span><br />\n<span style="color:black\;"><span style="font-family:arial\,sans-serif\;"><span style="font-size:16.0pt\;">8:00 AM &ndash\; 11:00 AM</span></span></span><br />\n<span style="background:white\;"><span style="color:black\;"><span style="font-family:arial\,sans-serif\;"><span style="font-size:16.0pt\;">To schedule an appointment </span></span></span></span><span style="color:black\;"><a href="https://login.bloodcenter.org/donor/schedules/drive_schedule/95056"><span style="background:white\;"><span style="font-family:arial\,sans-serif\;"><span style="font-size:16.0pt\;">click here.</span></span></span></a></span><br />\n<span style="background:white\;"><span style="color:black\;"><span style="font-family:arial\,sans-serif\;"><span style="font-size:16.0pt\;">Festival of Lights Building</span></span></span></span>
LOCATION:
UID:e.526.6412
SEQUENCE:3
DTSTAMP:20260420T200450Z
URL:https://business.epcc.org/events/details/east-peoria-public-servants-blood-drive-6412
END:VEVENT

END:VCALENDAR
