BEGIN:VCALENDAR
VERSION:2.0
PRODID:-//ChamberMaster//Event Calendar 2.0//EN
METHOD:PUBLISH
X-PUBLISHED-TTL:P3D
REFRESH-INTERVAL:P3D
CALSCALE:GREGORIAN
BEGIN:VEVENT
DTSTART:20230409T144500Z
DTEND:20230409T200000Z
X-MICROSOFT-CDO-ALLDAYEVENT:FALSE
SUMMARY:Easter Champagne Brunch (Barrack's Cater Inn)
DESCRIPTION:Prime Rib\, Honey-baked Ham\, Chicken\, Shrimp\, Omelets\, Waffles\, Pastries\, Assorted Salads\, Vegetables\, Potatoes\, Dessert Table including Elegant Chocolate Dipping Fountain *plus much\, much more!!!\n\n\n\nCall for Reservations (309) 692-3990
X-ALT-DESC;FMTTYPE=text/html:Prime Rib\, Honey-baked Ham\, Chicken\, Shrimp\, Omelets\, Waffles\, Pastries\, Assorted Salads\, Vegetables\, Potatoes\, Dessert Table including Elegant Chocolate Dipping Fountain *plus much\, much more!!!<br />\n<br />\nCall for Reservations (309) 692-3990
LOCATION:1224 W. Pioneer Parkway Peoria\, IL 61615
UID:e.526.7118
SEQUENCE:3
DTSTAMP:20260422T221805Z
URL:https://business.epcc.org/events/details/easter-champagne-brunch-barrack-s-cater-inn-7118
END:VEVENT

END:VCALENDAR
