BEGIN:VCALENDAR
VERSION:2.0
PRODID:-//ChamberMaster//Event Calendar 2.0//EN
METHOD:PUBLISH
X-PUBLISHED-TTL:P3D
REFRESH-INTERVAL:P3D
CALSCALE:GREGORIAN
BEGIN:VEVENT
DTSTART:20210417T130000Z
DTEND:20210417T170000Z
X-MICROSOFT-CDO-ALLDAYEVENT:FALSE
SUMMARY:Easterseals Run.Walk.Roll
DESCRIPTION:Join us for a VIRTUAL or IN-PERSON 5K & 1-Mile Walk!\n\nEnjoy time outside in the fresh air\, and participate in Easterseals Run.Walk.Roll as part of the Easterseals Community Rally virtually any time between Saturday\, April 17 through Saturday\, April 24\, 2021!\n\n\n\nThe in-person event is Saturday\, April 17 in the East Peoria Levee District!\n\nFINISHER'S MEDAL GO TO THE FIRST 400 FINISHERS
X-ALT-DESC;FMTTYPE=text/html:<p style="box-sizing: border-box\; margin: 0px 0px 10px\; font-family: &quot\;Open Sans&quot\;\, &quot\;Noto Sans JP&quot\;\, sans-serif\; font-size: 14px\; text-align: center\;"><span style="box-sizing: border-box\; font-family: Arial\, Helvetica\, sans-serif\; font-size: 24px\;"><span style="box-sizing: border-box\; font-weight: 700\;">Join us for a VIRTUAL or IN-PERSON 5K &amp\; 1-Mile Walk!</span></span></p>\n\n<p style="box-sizing: border-box\; margin: 0px 0px 10px\; font-family: &quot\;Open Sans&quot\;\, &quot\;Noto Sans JP&quot\;\, sans-serif\; font-size: 14px\;"><span style="box-sizing: border-box\; font-family: Arial\, Helvetica\, sans-serif\; font-size: 18px\;">Enjoy time outside in the fresh air\, and participate in Easterseals Run.Walk.Roll as part of the Easterseals Community Rally&nbsp\;<span style="box-sizing: border-box\; font-weight: 700\;">virtually&nbsp\;</span>any time between Saturday\, April 17 through Saturday\, April 24\, 2021!</span><br style="box-sizing: border-box\;" />\n<br style="box-sizing: border-box\;" />\n<span style="box-sizing: border-box\; font-size: 18px\;"><span style="box-sizing: border-box\; font-family: Arial\, Helvetica\, sans-serif\;">The&nbsp\;<span style="box-sizing: border-box\; font-weight: 700\;">in-person</span>&nbsp\;event is Saturday\, April 17 in the East Peoria Levee District!</span></span></p>\n\n<p style="box-sizing: border-box\; margin: 0px 0px 10px\; font-family: &quot\;Open Sans&quot\;\, &quot\;Noto Sans JP&quot\;\, sans-serif\; font-size: 14px\;"><span style="box-sizing: border-box\; font-weight: 700\;">FINISHER&#39\;S MEDAL GO TO THE FIRST 400 FINISHERS</span></p>\n
LOCATION:
UID:e.526.6699
SEQUENCE:3
DTSTAMP:20260421T111224Z
URL:https://business.epcc.org/events/details/easterseals-run-walk-roll-6699
END:VEVENT

END:VCALENDAR
