BEGIN:VCALENDAR
VERSION:2.0
PRODID:-//ChamberMaster//Event Calendar 2.0//EN
METHOD:PUBLISH
X-PUBLISHED-TTL:P3D
REFRESH-INTERVAL:P3D
CALSCALE:GREGORIAN
BEGIN:VEVENT
DTSTART:20180914T003000Z
DTEND:20180914T030000Z
X-MICROSOFT-CDO-ALLDAYEVENT:FALSE
SUMMARY:Eastlight Theatre Presents: Disenchanted Musical
DESCRIPTION:Poisoned apples. Glass slippers. Who needs 'em?! Not Snow White and her posse of disenchanted princesses in the hilarious hit musical that is anything but Grimm. Forget the princesses you think you know. When these royal renegades toss off their tiaras\, this hilariously subversive\, not-for-the-kiddies musical cleverly reveals what really happened 'ever after'!
X-ALT-DESC;FMTTYPE=text/html:<span style="color: rgb(255\, 255\, 255)\; font-family: Roboto\, Arial\, Helvetica\, sans-serif\; font-size: 14px\; background-color: rgb(0\, 0\, 0)\;">Poisoned apples. Glass slippers. Who needs &rsquo\;em?! Not Snow White and her posse of disenchanted princesses in the hilarious hit musical that is anything but Grimm. Forget the princesses you think you know. When these royal renegades toss off their tiaras\, this hilariously subversive\, not-for-the-kiddies musical cleverly reveals what really happened &lsquo\;ever after&rsquo\;!</span>
LOCATION:Byron Moore Auditorium East Peoria High School 1401 E Washington St East Peoria\, IL 61611
UID:e.526.5595
SEQUENCE:3
DTSTAMP:20260421T053015Z
URL:https://business.epcc.org/events/details/eastlight-theatre-presents-disenchanted-musical-09-13-2018-5595
END:VEVENT

END:VCALENDAR
