BEGIN:VCALENDAR
VERSION:2.0
PRODID:-//ChamberMaster//Event Calendar 2.0//EN
METHOD:PUBLISH
X-PUBLISHED-TTL:P3D
REFRESH-INTERVAL:P3D
CALSCALE:GREGORIAN
BEGIN:VEVENT
DTSTART:20181209T013000Z
DTEND:20181209T040000Z
X-MICROSOFT-CDO-ALLDAYEVENT:FALSE
SUMMARY:Eastlight Theatre Presents: Joseph and the Amazing Technicolor Dream Coat
DESCRIPTION:
X-ALT-DESC;FMTTYPE=text/html:
LOCATION:
UID:e.526.5905
SEQUENCE:3
DTSTAMP:20260421T005404Z
URL:https://business.epcc.org/events/details/eastlight-theatre-presents-joseph-and-the-amazing-technicolor-dream-coat-12-08-2018-5905
END:VEVENT

END:VCALENDAR
