BEGIN:VCALENDAR
VERSION:2.0
PRODID:-//ChamberMaster//Event Calendar 2.0//EN
METHOD:PUBLISH
X-PUBLISHED-TTL:P3D
REFRESH-INTERVAL:P3D
CALSCALE:GREGORIAN
BEGIN:VEVENT
DTSTART:20181201T013000Z
DTEND:20181201T040000Z
X-MICROSOFT-CDO-ALLDAYEVENT:FALSE
SUMMARY:Eastlight Theatre Presents: Joseph and the Amazing Technicolor Dreamcoat
DESCRIPTION:Joseph and the Amazing Technicolor Dreamcoat returns for its 28th year on Eastlight's stage! This Andrew Lloyd Webber and Tim Rice musical tells the story of Joseph and his eleven brothers. It was created as a soft rock fantasy that is fit for the entire family. Thousands of people have enjoyed the magic that is Joseph\, so be sure to join us for this Central Illinois holiday favorite!
X-ALT-DESC;FMTTYPE=text/html:<span style="color: rgb(255\, 255\, 255)\; font-family: Roboto\, Arial\, Helvetica\, sans-serif\; font-size: 14px\; background-color: rgb(0\, 0\, 0)\;">Joseph and the Amazing Technicolor Dreamcoat returns for its 28th year on Eastlight&#39\;s stage! This Andrew Lloyd Webber and Tim Rice musical tells the story of Joseph and his eleven brothers. It was created as a soft rock fantasy that is fit for the entire family. Thousands of people have enjoyed the magic that is Joseph\, so be sure to join us for this Central Illinois holiday favorite!</span>
LOCATION:Byron Moore Auditorium East Peoria High School 1401 E Washington St East Peoria\, IL 61611
UID:e.526.5598
SEQUENCE:3
DTSTAMP:20260421T040714Z
URL:https://business.epcc.org/events/details/eastlight-theatre-presents-joseph-and-the-amazing-technicolor-dreamcoat-5598
END:VEVENT

END:VCALENDAR
