BEGIN:VCALENDAR
VERSION:2.0
PRODID:-//ChamberMaster//Event Calendar 2.0//EN
METHOD:PUBLISH
X-PUBLISHED-TTL:P3D
REFRESH-INTERVAL:P3D
CALSCALE:GREGORIAN
BEGIN:VEVENT
DTSTART:20161011T133000Z
DTEND:20161011T153000Z
X-MICROSOFT-CDO-ALLDAYEVENT:FALSE
SUMMARY:Economic Update
DESCRIPTION:Economic Update is an interactive discussion with Bradley University Economics Professor\, Dr. Joshua Lewer. An update of the economic situation moving into 2017 will be presented.
X-ALT-DESC;FMTTYPE=text/html:Economic Update is an interactive discussion with Bradley University Economics Professor\, Dr. Joshua Lewer. An update of the economic situation moving into 2017 will be presented.
LOCATION:Bradley University
UID:e.526.3149
SEQUENCE:3
DTSTAMP:20260422T183132Z
URL:https://business.epcc.org/events/details/economic-update-10-11-2016-3149
END:VEVENT

END:VCALENDAR
