BEGIN:VCALENDAR
VERSION:2.0
PRODID:-//ChamberMaster//Event Calendar 2.0//EN
METHOD:PUBLISH
X-PUBLISHED-TTL:P3D
REFRESH-INTERVAL:P3D
CALSCALE:GREGORIAN
BEGIN:VEVENT
DTSTART:20221020T170000Z
DTEND:20221020T180000Z
X-MICROSOFT-CDO-ALLDAYEVENT:FALSE
SUMMARY:Effective Communication Strategies & Art Activities for the Fall Season
DESCRIPTION:Watch our LIVE Interactive Program In-Person\, or from home\n\nCommunication is more than just talking and listening - it's also about sending and receiving messages through attitude\, tone of voice\, facial expressions and body language. As people with Alzheimer's disease and other dementias progress in their journey and the ability to use words is lost. Families need new ways to connect. Join us to explore how communication takes place when someone has Alzheimer's\, learn to decode the verbal and behavioral messages delivered by someone with dementia\, and identify strategies to help you connect and communicate at each stage of the disease. The Effective Communication Strategies program of the Alzheimer's Association was designed to provide practical information and resources to help dementia caregivers learn to decode verbal and behavioral messages from people with dementia.\n\nLearn how art can stimulate creativity through Art Express\, an evidence-based program designed for persons experiencing memory loss or dementia. administered by the Dale and Deborah Smith Center for Alzheimer's Research and Treatment at SIU. Art Express is free\, and provides social interaction and cognitive stimulation for those with Alzheimer's and their caregiver\n\nCall to Register: 800.272.3900\n\nIn person at the Alpha Park Library
X-ALT-DESC;FMTTYPE=text/html:<p>Watch our LIVE Interactive Program In-Person\, or from home</p>\n\n<p>Communication is more than just talking and listening - it&#39\;s also about sending and receiving messages through attitude\, tone of voice\, facial expressions and body language. As people with Alzheimer&#39\;s disease and other dementias progress in their journey and the ability to use words is lost. Families need new ways to connect. Join us to explore how communication takes place when someone has Alzheimer&#39\;s\, learn to decode the verbal and behavioral messages delivered by someone with dementia\, and identify strategies to help you connect and communicate at each stage of the disease. The Effective Communication Strategies program of the Alzheimer&#39\;s Association was designed to provide practical information and resources to help dementia caregivers learn to decode verbal and behavioral messages from people with dementia.</p>\n\n<p>Learn how art can stimulate creativity through Art Express\, an evidence-based program designed for persons experiencing memory loss or dementia. administered by the Dale and Deborah Smith Center for Alzheimer&#39\;s Research and Treatment at SIU. Art Express is free\, and provides social interaction and cognitive stimulation for those with Alzheimer&#39\;s and their caregiver</p>\n\n<p>Call to Register: 800.272.3900</p>\n\n<p>In person at the Alpha Park Library</p>\n
LOCATION:Alpha Park Library 3527 S Airport Rd Peoria\, IL 61607
UID:e.526.7084
SEQUENCE:3
DTSTAMP:20260422T115925Z
URL:https://business.epcc.org/events/details/effective-communication-strategies-art-activities-for-the-fall-season-7084
END:VEVENT

END:VCALENDAR
