BEGIN:VCALENDAR
VERSION:2.0
PRODID:-//ChamberMaster//Event Calendar 2.0//EN
METHOD:PUBLISH
X-PUBLISHED-TTL:P3D
REFRESH-INTERVAL:P3D
CALSCALE:GREGORIAN
BEGIN:VEVENT
DTSTART:20190619T150000Z
DTEND:20190619T170000Z
X-MICROSOFT-CDO-ALLDAYEVENT:FALSE
SUMMARY:Email Marketing with Constant Contact
DESCRIPTION:SCORE Peoria is offering the following FREE workshop.\n\nEmail Marketing with Constant Contact\n\nEmail is the most cost effective and efficient way to build and maintain customer relationships in your business. Tammy Finch\, owner of Web Services Inc.\, will show you how to become a master of email marketing and communication along with a review of best practices and strategies. Tammy is a Constant Contact Local Expert and Constant Contact Solution Provider.\n\nThis workshop is FREE\, but registration is required.\n\nCall Peoria SCORE at 309-676-0755 or register online by clicking here.
X-ALT-DESC;FMTTYPE=text/html:<h1 style="text-align: center\;"><span style="font-size:16px"><span style="font-family:arial\,helvetica\,sans-serif">SCORE Peoria is offering the following FREE workshop.<br />\n<span style="font-size:22px"><u><strong>Email Marketing with Constant Contact</strong></u></span></span></span></h1>\n\n<p>Email is the most cost effective and efficient way to build and maintain customer relationships in your business. Tammy Finch\, owner of Web Services Inc.\, will show you how to become a master of email marketing and communication along with a review of best practices and strategies. Tammy is a Constant Contact Local Expert and Constant Contact Solution Provider.</p>\n\n<h4 style="text-align: center\;"><strong>This workshop is FREE\, but registration is required.<br />\nCall Peoria SCORE at 309-676-0755 or register online by <a href="http://events.constantcontact.com/register/event?llr=9af7iaeab&amp\;oeidk=a07eg7y4t49733a5469" target="_blank">clicking here</a>.</strong></h4>\n
LOCATION:Fondulac Bank - Fondulac Room (Clock Tower Place) 201 Clock Tower Dr. East Peoria\, IL 61611
UID:e.526.6094
SEQUENCE:3
DTSTAMP:20260420T165918Z
URL:https://business.epcc.org/events/details/email-marketing-with-constant-contact-6094
END:VEVENT

END:VCALENDAR
