BEGIN:VCALENDAR
VERSION:2.0
PRODID:-//ChamberMaster//Event Calendar 2.0//EN
METHOD:PUBLISH
X-PUBLISHED-TTL:P3D
REFRESH-INTERVAL:P3D
CALSCALE:GREGORIAN
BEGIN:VEVENT
DTSTART;VALUE=DATE:20190704
DTEND;VALUE=DATE:20190705
TRANSP:TRANSPARENT
X-MICROSOFT-CDO-ALLDAYEVENT:TRUE
SUMMARY:Embassy Suites 4th of July Celebration
DESCRIPTION:WELCOME TO THE 12TH ANNUAL 4TH OF JULY CELEBRATION \n\nThank you for choosing to experience the 2019 4th of July with us! Many of you have enjoyed sharing the holiday with us over the last 11 years and we look forward to sharing another great day with you!\n\n\n\nSchedule:\n\n3:00pm: Check In We will attempt to accommodate early arrivals based upon availability of room type. Room assignments will be based on the room type booked at the date of booking. It will not be based on how early you arrive day of.\n\n\n\n4:00pm   8:00p Activities   Photo Booth   Face Painting   Balloon Artist   Spin the Wheel   Frozen Novelty Treats   Snow Cones\, Cotton Candy & Popcorn   Family Fun Activities\n\n\n\n5:00pm   7:00pm Food & Beverage   Buffet Menu  Cookout style buffet Beverages  Soda\, Draft Beer\, and Water\n\n\n\n5:00pm   9:00pm Entertainment   Live band featuring West MacQueen Street Band\n\n\n\nFireworks at Dusk!\n\n\n\n10:00pm   12:00am Late Night Snacks (fee)   Chipotle Cinnamon Seasoned Sweet Fries and Garlic Parmesan Fries with a Spicy Aioli   Walking Taco Tortilla Chips loaded with all the Fix in's   Dry Rubbed Chicken Wings Tossed in a Teriyaki Glaze or Siracha Honey Sauce   Pretzel Bites with Pub Cheese\n\n\n\nClick here to enlarge brochure.
X-ALT-DESC;FMTTYPE=text/html:WELCOME TO THE 12TH ANNUAL 4TH OF JULY CELEBRATION&nbsp\;<br />\nThank you for choosing to experience the 2019 4th of July with us! Many of you have enjoyed sharing the holiday with us over the last 11 years and we look forward to sharing another great day with you!<br />\n<br />\nSchedule:<br />\n3:00pm: Check In We will attempt to accommodate early arrivals based upon availability of room type. Room assignments will be based on the room type booked at the date of booking. It will not be based on how early you arrive day of.<br />\n<br />\n4:00pm &ndash\; 8:00p Activities &bull\; Photo Booth &bull\; Face Painting &bull\; Balloon Artist &bull\; Spin the Wheel &bull\; Frozen Novelty Treats &bull\; Snow Cones\, Cotton Candy &amp\; Popcorn &bull\; Family Fun Activities<br />\n<br />\n5:00pm &ndash\; 7:00pm Food &amp\; Beverage &bull\; Buffet Menu&ndash\; Cookout style buffet Beverages&ndash\; Soda\, Draft Beer\, and Water<br />\n<br />\n5:00pm &ndash\; 9:00pm Entertainment &bull\; Live band featuring West MacQueen Street Band<br />\n<br />\nFireworks at Dusk!<br />\n<br />\n10:00pm &ndash\; 12:00am Late Night Snacks (fee) &bull\; Chipotle Cinnamon Seasoned Sweet Fries and Garlic Parmesan Fries with a Spicy Aioli &bull\; Walking Taco Tortilla Chips loaded with all the Fix in&rsquo\;s &bull\; Dry Rubbed Chicken Wings Tossed in a Teriyaki Glaze or Siracha Honey Sauce &bull\; Pretzel Bites with Pub Cheese<br />\n<br />\n<a href="https://files.constantcontact.com/7d7df4bb001/09a6c49f-d3fb-4379-8c6f-30efee5928a2.pdf">Click here to enlarge brochure.</a>
LOCATION:
UID:e.526.6052
SEQUENCE:3
DTSTAMP:20260420T140736Z
URL:https://business.epcc.org/events/details/embassy-suites-4th-of-july-celebration-6052
END:VEVENT

END:VCALENDAR
