BEGIN:VCALENDAR
VERSION:2.0
PRODID:-//ChamberMaster//Event Calendar 2.0//EN
METHOD:PUBLISH
X-PUBLISHED-TTL:P3D
REFRESH-INTERVAL:P3D
CALSCALE:GREGORIAN
BEGIN:VEVENT
DTSTART:20190525T140000Z
DTEND:20190525T170000Z
X-MICROSOFT-CDO-ALLDAYEVENT:FALSE
SUMMARY:EP!C Harvest
DESCRIPTION:Get your Spring on. Our EP!C Harvest Greenhouse will be open the last two Saturday's in May from 9-Noon.\n\nWhile you're there get a chance to sign up for a CSA basket this season to get fresh\, local veggies each week.\n\n1913 W. Townline Rd. Open parking on the left side of the building. Greenhouse is directly behind the building by the circle drive. *note Construction\, you MUST turn right when you leave.
X-ALT-DESC;FMTTYPE=text/html:<p style="margin: 0px 0px 6px\; font-family: Helvetica\, Arial\, sans-serif\; color: rgb(28\, 30\, 33)\; font-size: 14px\;">Get your Spring on. Our EP!C Harvest Greenhouse will be open the last two Saturday&#39\;s in May from 9-Noon.<br />\nWhile you&#39\;re there get a chance to sign up for a CSA basket this season to get fresh\, local veggies each week.</p>\n\n<p style="margin: 6px 0px 0px\; display: inline\; font-family: Helvetica\, Arial\, sans-serif\; color: rgb(28\, 30\, 33)\; font-size: 14px\;">1913 W. Townline Rd. Open parking on the left side of the building. Greenhouse is directly behind the building by the circle drive. *note Construction\, you MUST turn right when you leave.</p>\n
LOCATION:
UID:e.526.6074
SEQUENCE:3
DTSTAMP:20260420T165857Z
URL:https://business.epcc.org/events/details/ep-c-harvest-05-25-2019-6074
END:VEVENT

END:VCALENDAR
