BEGIN:VCALENDAR
VERSION:2.0
PRODID:-//ChamberMaster//Event Calendar 2.0//EN
METHOD:PUBLISH
X-PUBLISHED-TTL:P3D
REFRESH-INTERVAL:P3D
CALSCALE:GREGORIAN
BEGIN:VEVENT
DTSTART:20220820T223000Z
DTEND:20220821T030000Z
X-MICROSOFT-CDO-ALLDAYEVENT:FALSE
SUMMARY:EP!C Night At The Ballpark
DESCRIPTION:Come support EP!C while cheering on the Peoria Chiefs as they take on the Quad Cities River Bandits during Superhero Night at Dozer Park and stay around for fireworks after the game. A portion of the ticket proceeds will come back to EP!C.\n\n \n\nActivities at the Game (many occurring pre-game):\n\n- EP!C On-Field Parade\n\n- Field of Dreams\n\n- High-Five Tunnel\n\n- Throwing First Pitch\n\n- Play Ball Call\n\n- Singing National Anthem\n\n- Pitch in for Charity (tennis ball toss)\n\n- T-shirt Toss Helpers\n\n- 7th Inning Stretch Singer\n\n \n\nPurchase Tickets https://bit.ly/EPICnight2022\n\n \n\nTickets will be available for pick up at EP!C on August 15th at Noon until August 19th at Noon. Then tickets will be held at Will Call.\n\n \n\n*If you require ADA seating\, are someone we support\, or a staff member working the game\, contact us for special seating or discounted tickets at epicdevelopment@epicci.org or 309-689-3606
X-ALT-DESC;FMTTYPE=text/html:<div>Come support EP!C while cheering on the Peoria Chiefs as they take on the Quad Cities River Bandits during Superhero Night at Dozer Park and stay around for fireworks after the game. A portion of the ticket proceeds will come back to EP!C.<br />\n&nbsp\;</div>\n\n<div>Activities at the Game (many occurring pre-game):<br />\n- EP!C On-Field Parade<br />\n- Field of Dreams<br />\n- High-Five Tunnel<br />\n- Throwing First Pitch<br />\n- Play Ball Call<br />\n- Singing National Anthem<br />\n- Pitch in for Charity (tennis ball toss)<br />\n- T-shirt Toss Helpers<br />\n- 7th Inning Stretch Singer<br />\n&nbsp\;</div>\n\n<div>Purchase Tickets&nbsp\;<a class="oajrlxb2 g5ia77u1 qu0x051f esr5mh6w e9989ue4 r7d6kgcz rq0escxv nhd2j8a9 nc684nl6 p7hjln8o kvgmc6g5 cxmmr5t8 oygrvhab hcukyx3x jb3vyjys rz4wbd8a qt6c0cv9 a8nywdso i1ao9s8h esuyzwwr f1sip0of lzcic4wl gpro0wi8 py34i1dx" href="https://bit.ly/EPICnight2022" rel="nofollow noopener" style="color: var(--blue-link)\; cursor: pointer\; text-decoration-line: none\; outline: none\; list-style: none\; border-width: 0px\; border-style: initial\; border-color: initial\; padding: 0px\; margin: 0px\; touch-action: manipulation\; background-color: transparent\; text-align: inherit\; display: inline\; -webkit-tap-highlight-color: transparent\; box-sizing: border-box\; font-family: inherit\;" tabindex="0" target="_blank">https://bit.ly/EPICnight2022</a><br />\n&nbsp\;</div>\n\n<div>Tickets will be available for pick up at EP!C on August 15th at Noon until August 19th at Noon. Then tickets will be held at Will Call.<br />\n&nbsp\;</div>\n\n<div>*If you require ADA seating\, are someone we support\, or a staff member working the game\, contact us for special seating or discounted tickets at epicdevelopment@epicci.org or 309-689-3606</div>\n
LOCATION:Dozer Park
UID:e.526.7008
SEQUENCE:3
DTSTAMP:20260422T102157Z
URL:https://business.epcc.org/events/details/ep-c-night-at-the-ballpark-7008
END:VEVENT

END:VCALENDAR
