BEGIN:VCALENDAR
VERSION:2.0
PRODID:-//ChamberMaster//Event Calendar 2.0//EN
METHOD:PUBLISH
X-PUBLISHED-TTL:P3D
REFRESH-INTERVAL:P3D
CALSCALE:GREGORIAN
BEGIN:VEVENT
DTSTART:20140424T220000Z
DTEND:20140425T000000Z
X-MICROSOFT-CDO-ALLDAYEVENT:FALSE
SUMMARY:EPCC - 2014 Business After Hours April
DESCRIPTION:Network with fellow chamber members and non members. Take this opportunity to Vote for a finalist in the Great Heart Giveaway! \n\n.\n\n\n\nwww.thegreatHeartgive.com\n\n\n\nShow love to your favorite Central Illinois Non-Profit!
X-ALT-DESC;FMTTYPE=text/html:Network with fellow chamber members and non members. Take this opportunity to&nbsp\;Vote for a finalist in the Great Heart Giveaway!&nbsp\;<br />\n.<br />\n<br />\nwww.thegreatHeartgive.com<br />\n<br />\nShow love to your favorite Central Illinois Non-Profit!
LOCATION:Heart Technologies 3105 N. Main St. East Peoria\, Il 61611
UID:e.526.918
SEQUENCE:3
DTSTAMP:20260426T005140Z
URL:https://business.epcc.org/events/details/epcc-2014-business-after-hours-april-04-24-2014-918
END:VEVENT

END:VCALENDAR
