BEGIN:VCALENDAR
VERSION:2.0
PRODID:-//ChamberMaster//Event Calendar 2.0//EN
METHOD:PUBLISH
X-PUBLISHED-TTL:P3D
REFRESH-INTERVAL:P3D
CALSCALE:GREGORIAN
BEGIN:VEVENT
DTSTART:20140515T220000Z
DTEND:20140516T000000Z
X-MICROSOFT-CDO-ALLDAYEVENT:FALSE
SUMMARY:EPCC - 2014 Business After Hours May
DESCRIPTION:Business After Hours  5-7 p.m. Thursday\, May 15\, 2014\n\nJ.K. Williams Distilling\n\n526 High Point Road\n\nEast Peoria\, IL
X-ALT-DESC;FMTTYPE=text/html:Business After Hours &nbsp\;5-7 p.m. Thursday\, May 15\, 2014<br />\nJ.K. Williams Distilling<br />\n526 High Point Road<br />\nEast Peoria\, IL
LOCATION:J.K. Williams Distilling 526 High Point Rd. East Peoria\, IL
UID:e.526.927
SEQUENCE:3
DTSTAMP:20260425T232541Z
URL:https://business.epcc.org/events/details/epcc-2014-business-after-hours-may-05-15-2014-927
END:VEVENT

END:VCALENDAR
