BEGIN:VCALENDAR
VERSION:2.0
PRODID:-//ChamberMaster//Event Calendar 2.0//EN
METHOD:PUBLISH
X-PUBLISHED-TTL:P3D
REFRESH-INTERVAL:P3D
CALSCALE:GREGORIAN
BEGIN:VEVENT
DTSTART:20140909T220000Z
DTEND:20140910T000000Z
X-MICROSOFT-CDO-ALLDAYEVENT:FALSE
SUMMARY:EPCC - 2014 Business After Hours September
DESCRIPTION:Come network with fellow chamber members and non members  from the Washington Chamber of Commerce.  This is a joint venture  between the Washington Chamber and East Peoria Chamber.  McMahon's will be the gracious host for the evenin.
X-ALT-DESC;FMTTYPE=text/html:Come network with fellow chamber members and non members &nbsp\;from the Washington Chamber of Commerce.&nbsp\; This is a joint venture&nbsp\; between the Washington Chamber and East Peoria Chamber.&nbsp\; McMahon&#39\;s will be the gracious host for the evenin.
LOCATION:McMahon's Pints and Plates 80 Sunnyland Plaza Washington\, Il
UID:e.526.1149
SEQUENCE:3
DTSTAMP:20260425T173158Z
URL:https://business.epcc.org/events/details/epcc-2014-business-after-hours-september-09-09-2014-1149
END:VEVENT

END:VCALENDAR
