BEGIN:VCALENDAR
VERSION:2.0
PRODID:-//ChamberMaster//Event Calendar 2.0//EN
METHOD:PUBLISH
X-PUBLISHED-TTL:P3D
REFRESH-INTERVAL:P3D
CALSCALE:GREGORIAN
BEGIN:VEVENT
DTSTART:20141203T130000Z
DTEND:20141203T130000Z
X-MICROSOFT-CDO-ALLDAYEVENT:FALSE
SUMMARY:EPCC - 2014 Chamber Leadership School
DESCRIPTION:The East Peoria Chamber of Commerce Leadership School offers a unique opportunity to enhance  leadership skills and network with other business people in the area.\n\nSpeakers this year include:\n\nKim LeHew - Cullinan\n\nJim Goff - Bass Pro\n\nCarol Merna - Peoria Airport\n\nCindy Byrd\, Dennis Triggs\, Lisa Plantamura - Methodist\n\nMayor Dave Mingus\n\nJamie Durdel - TCRC\n\nMichael Stephan - United Way\n\nCaterpillar Representatives\n\nRepresentative Mike Unes\n\nMichael Graham - Graham & Assoc\n\nTammy Finch - Web Services
X-ALT-DESC;FMTTYPE=text/html:The&nbsp\;East Peoria Chamber of Commerce Leadership School offers a&nbsp\;unique&nbsp\;opportunity to enhance&nbsp\;&nbsp\;leadership skills and&nbsp\;network with other business people in the area.<br />\n<strong>Speakers this year include:</strong><br />\nKim LeHew&nbsp\;- Cullinan<br />\nJim Goff -&nbsp\;Bass Pro<br />\nCarol Merna - Peoria Airport<br />\nCindy Byrd\, Dennis Triggs\, Lisa Plantamura -&nbsp\;Methodist<br />\nMayor Dave Mingus<br />\nJamie Durdel - TCRC<br />\nMichael Stephan -&nbsp\;United Way<br />\nCaterpillar Representatives<br />\nRepresentative Mike Unes<br />\nMichael Graham -&nbsp\;Graham &amp\; Assoc<br />\nTammy Finch -&nbsp\;Web Services
LOCATION:Fondulac Room (2nd Floor) Clock Tower Bank Building 201 Clock Tower Drive East Peoria\, IL 61611
UID:e.526.1192
SEQUENCE:3
DTSTAMP:20260425T134529Z
URL:https://business.epcc.org/events/details/epcc-2014-chamber-leadership-school-12-03-2014-1192
END:VEVENT

END:VCALENDAR
