BEGIN:VCALENDAR
VERSION:2.0
PRODID:-//ChamberMaster//Event Calendar 2.0//EN
METHOD:PUBLISH
X-PUBLISHED-TTL:P3D
REFRESH-INTERVAL:P3D
CALSCALE:GREGORIAN
BEGIN:VEVENT
DTSTART:20140307T130000Z
DTEND:20140307T150000Z
X-MICROSOFT-CDO-ALLDAYEVENT:FALSE
SUMMARY:EPCC - 2014 Eggs & Issues March
DESCRIPTION:State of the City presented by Mayor Dave Mingus and Staff
X-ALT-DESC;FMTTYPE=text/html:State of the City presented by Mayor Dave Mingus and Staff
LOCATION:Par A Dice Hotel 21 Blackjack Blvd East Peoria\, Il 61611
UID:e.526.913
SEQUENCE:3
DTSTAMP:20260426T021502Z
URL:https://business.epcc.org/events/details/epcc-2014-eggs-issues-march-03-07-2014-913
END:VEVENT

END:VCALENDAR
