BEGIN:VCALENDAR
VERSION:2.0
PRODID:-//ChamberMaster//Event Calendar 2.0//EN
METHOD:PUBLISH
X-PUBLISHED-TTL:P3D
REFRESH-INTERVAL:P3D
CALSCALE:GREGORIAN
BEGIN:VEVENT
DTSTART:20141024T120000Z
DTEND:20141024T140000Z
X-MICROSOFT-CDO-ALLDAYEVENT:FALSE
SUMMARY:EPCC - 2014 Eggs & Issues October
DESCRIPTION:Technology for Tomorrow
X-ALT-DESC;FMTTYPE=text/html:Technology for Tomorrow&nbsp\;&nbsp\;&nbsp\;
LOCATION:Par-A-Dice Hotel Ballroom 21 Blackjack Boulevard East Peoria\, IL. 61611
UID:e.526.1193
SEQUENCE:3
DTSTAMP:20260425T151640Z
URL:https://business.epcc.org/events/details/epcc-2014-eggs-issues-october-10-24-2014-1193
END:VEVENT

END:VCALENDAR
