BEGIN:VCALENDAR
VERSION:2.0
PRODID:-//ChamberMaster//Event Calendar 2.0//EN
METHOD:PUBLISH
X-PUBLISHED-TTL:P3D
REFRESH-INTERVAL:P3D
CALSCALE:GREGORIAN
BEGIN:VEVENT
DTSTART:20140912T120000Z
DTEND:20140912T140000Z
X-MICROSOFT-CDO-ALLDAYEVENT:FALSE
SUMMARY:EPCC - 2014 Eggs & Issues September
DESCRIPTION:Speakers will address the Economy: Today and Tomorrow\n\nBruce Budde    ICC    Education\n\nBill Russell       South Side Bank    Personal\n\nJim Goff           Bass Pro Shop       Retail\n\nMike Dewalt    Caterpillar               Business/Global
X-ALT-DESC;FMTTYPE=text/html:Speakers will address the Economy: Today and Tomorrow<br />\nBruce Budde&nbsp\;&nbsp\;&nbsp\; ICC&nbsp\;&nbsp\;&nbsp\; Education<br />\nBill Russell&nbsp\;&nbsp\;&nbsp\;&nbsp\;&nbsp\;&nbsp\; South Side Bank&nbsp\;&nbsp\;&nbsp\; Personal<br />\nJim&nbsp\;Goff&nbsp\;&nbsp\;&nbsp\;&nbsp\;&nbsp\;&nbsp\;&nbsp\;&nbsp\;&nbsp\;&nbsp\; Bass Pro Shop&nbsp\;&nbsp\;&nbsp\;&nbsp\;&nbsp\;&nbsp\; Retail<br />\nMike Dewalt&nbsp\;&nbsp\;&nbsp\;&nbsp\;Caterpillar&nbsp\;&nbsp\;&nbsp\;&nbsp\;&nbsp\;&nbsp\;&nbsp\;&nbsp\;&nbsp\;&nbsp\;&nbsp\;&nbsp\;&nbsp\;&nbsp\; Business/Global
LOCATION:Par a Dice Hotel 21 Blackjack Blvd East Peoria\, Il 61611
UID:e.526.1141
SEQUENCE:3
DTSTAMP:20260425T184740Z
URL:https://business.epcc.org/events/details/epcc-2014-eggs-issues-september-09-12-2014-1141
END:VEVENT

END:VCALENDAR
