BEGIN:VCALENDAR
VERSION:2.0
PRODID:-//ChamberMaster//Event Calendar 2.0//EN
METHOD:PUBLISH
X-PUBLISHED-TTL:P3D
REFRESH-INTERVAL:P3D
CALSCALE:GREGORIAN
BEGIN:VEVENT
DTSTART:20141206T150000Z
DTEND:20141206T170000Z
X-MICROSOFT-CDO-ALLDAYEVENT:FALSE
SUMMARY:EPCC - 2014 Festival of Lights stamp cancellation
DESCRIPTION:One day only. Stamp cancellation with the Festival of Lights stamp.
X-ALT-DESC;FMTTYPE=text/html:One day only. Stamp cancellation with the Festival of Lights stamp.
LOCATION:East Peoria Post Office
UID:e.526.1170
SEQUENCE:3
DTSTAMP:20260425T122234Z
URL:https://business.epcc.org/events/details/epcc-2014-festival-of-lights-stamp-cancellation-12-06-2014-1170
END:VEVENT

END:VCALENDAR
