BEGIN:VCALENDAR
VERSION:2.0
PRODID:-//ChamberMaster//Event Calendar 2.0//EN
METHOD:PUBLISH
X-PUBLISHED-TTL:P3D
REFRESH-INTERVAL:P3D
CALSCALE:GREGORIAN
BEGIN:VEVENT
DTSTART:20141015T170000Z
DTEND:20141015T180000Z
X-MICROSOFT-CDO-ALLDAYEVENT:FALSE
SUMMARY:EPCC - 2014 Lunch & Learn
DESCRIPTION:The East Peoria Chamber of Commerce in conjunction with Ameren Illinois' ActOnEnergy Business program will be hosting a lunch and learn. You are encouraged to attend this event to learn how your business or organization can apply for cash incentives to help pay for part or your next electric or natural gas energy efficiency project (many of which have paybacks of less than one year!).\n\n\n\nReserve your place now for this special event\, where you will:\n\n	Learn about the ActOnEnergy Business Program\n	Find out about the variety of cash incentives available for your business or organization\n	Discover how to replace inefficient lighting for one low cost through our Small Business program\n	Meet your local Energy Advisor\, Steve Smith\n	Talk to ActOnEnergy representatives to answer any of your quesitons\n\nMillions of dollars in cash incentives are available through ActOnEnergy - learn more and start saving!
X-ALT-DESC;FMTTYPE=text/html:The East Peoria Chamber of Commerce in conjunction with Ameren Illinois&#39\; ActOnEnergy Business program will be hosting a lunch and learn. You are encouraged to attend this event to learn how your business or organization can apply for cash incentives to help pay for part or your next electric or natural gas energy efficiency project (many of which have paybacks of less than one year!).<br />\n<br />\nReserve your place now for this special event\, where you will:\n<ul>\n	<li>Learn about the ActOnEnergy Business Program</li>\n	<li>Find out about the variety of cash incentives available for your business or organization</li>\n	<li>Discover how to replace inefficient lighting for one low cost through our Small Business program</li>\n	<li>Meet your local Energy Advisor\, Steve Smith</li>\n	<li>Talk to ActOnEnergy representatives to answer any of your quesitons</li>\n</ul>\nMillions of dollars in cash incentives are available through ActOnEnergy - learn more and start saving!<br />\n<br />\n&nbsp\;
LOCATION:East Peoria Chamber of Commerce 201 Clocktower Drive East Peoria\, IL. 61611
UID:e.526.1235
SEQUENCE:3
DTSTAMP:20260425T153438Z
URL:https://business.epcc.org/events/details/epcc-2014-lunch-learn-10-15-2014-1235
END:VEVENT

END:VCALENDAR
