BEGIN:VCALENDAR
VERSION:2.0
PRODID:-//ChamberMaster//Event Calendar 2.0//EN
METHOD:PUBLISH
X-PUBLISHED-TTL:P3D
REFRESH-INTERVAL:P3D
CALSCALE:GREGORIAN
BEGIN:VEVENT
DTSTART:20140502T120000Z
DTEND:20140502T140000Z
X-MICROSOFT-CDO-ALLDAYEVENT:FALSE
SUMMARY:EPCC - 2014 Mayor's Prayer Breakfast
DESCRIPTION:Join us for the 2014 Mayor's Prayer Breakfast featuring Don Piper\, Christian Minister and author of the Best Selling Book 90 Minutes in Heaven. He has mesmerized audiences around the globe with his story of hope and healing.  His personal story can be found at www.donpiperministries.com.  Rachel West Kramer of Hands of Love Ministries will inspire with her beautiful music.\n\n\n\nThis is a popular event so Reserve Your Seat Early.  RESERVED SEATS ONLY
X-ALT-DESC;FMTTYPE=text/html:Join us for the 2014 Mayor&#39\;s Prayer Breakfast featuring Don Piper\, Christian Minister and author of the Best Selling Book <em>90 Minutes in Heaven. </em>He has mesmerized audiences around the globe with his story of hope and healing. &nbsp\;His personal story can be found at www.donpiperministries.com. &nbsp\;Rachel West Kramer of Hands of Love Ministries will inspire with her beautiful music.<br />\n<br />\nThis is a popular event so Reserve Your Seat Early. &nbsp\;<strong>RESERVED SEATS ONLY</strong>
LOCATION:Holiday Inn East Peoria 101 Holiday Drive East Peoria\, IL 61611
UID:e.526.926
SEQUENCE:3
DTSTAMP:20260426T004358Z
URL:https://business.epcc.org/events/details/epcc-2014-mayor-s-prayer-breakfast-05-02-2014-926
END:VEVENT

END:VCALENDAR
