BEGIN:VCALENDAR
VERSION:2.0
PRODID:-//ChamberMaster//Event Calendar 2.0//EN
METHOD:PUBLISH
X-PUBLISHED-TTL:P3D
REFRESH-INTERVAL:P3D
CALSCALE:GREGORIAN
BEGIN:VEVENT
DTSTART:20141002T210000Z
DTEND:20141003T000000Z
X-MICROSOFT-CDO-ALLDAYEVENT:FALSE
SUMMARY:EPCC - 2014 Oktoberfest Premiere Business Expo
DESCRIPTION:Oktoberfest is a great way to showcase your business. Business leaders from a wide variety of organizations attend this annual event\, making this the best place to get in touch with potential clients.  Participating companies have included small businesses\, non-profits\, and some of the area's largest employers. \n\n\n\nWe will also have a "mini taste of East Peoria" again this year.  Greg Batton will be our Emcee and will come to your booth and announce  if you have a drawing.\n\n\n\nIf you have special requests\, ie.\, against the wall\, oversized display\, etc\, please note that in the comments when you register.  We will try to accommodate all requests.       \n\n\n\nAll exhibitors must sign and return an Identification Form.
X-ALT-DESC;FMTTYPE=text/html:<div style="color: gray\;">\n<div>Oktoberfest is a great way to showcase your business.&nbsp\;Business leaders from a wide variety of organizations attend this annual event\, making this the best place to get in touch with potential clients.&nbsp\;&nbsp\;Participating companies have included small businesses\, non-profits\,&nbsp\;and&nbsp\;some of the area&rsquo\;s largest employers.&nbsp\;<br />\n<br />\nWe will also have a &quot\;mini taste of East Peoria&quot\; again this year.&nbsp\; Greg Batton will be our Emcee and will come to your booth and announce&nbsp\;&nbsp\;if you have a drawing.<br />\n<br />\nIf you have special requests\, ie.\, against the wall\, oversized display\, etc\, please&nbsp\;note that in the comments when you register.&nbsp\; We will try to accommodate all requests.&nbsp\;&nbsp\;&nbsp\;&nbsp\;&nbsp\;&nbsp\;&nbsp\;<br />\n<br />\nAll exhibitors must sign and return an Identification Form.&nbsp\;</div>\n</div>\n
LOCATION:Par-A-Dice Hotel 21 Blackjack Blvd. East Peoria
UID:e.526.921
SEQUENCE:3
DTSTAMP:20260425T152117Z
URL:https://business.epcc.org/events/details/epcc-2014-oktoberfest-premiere-business-expo-10-02-2014-921
END:VEVENT

END:VCALENDAR
