BEGIN:VCALENDAR
VERSION:2.0
PRODID:-//ChamberMaster//Event Calendar 2.0//EN
METHOD:PUBLISH
X-PUBLISHED-TTL:P3D
REFRESH-INTERVAL:P3D
CALSCALE:GREGORIAN
BEGIN:VEVENT
DTSTART:20141104T050000Z
DTEND:20141104T053000Z
X-MICROSOFT-CDO-ALLDAYEVENT:FALSE
SUMMARY:EPCC - 2014 Ribbon Cutting - Noodles & Co
DESCRIPTION:The new location of Noodles & Company will be opening in the Levee District!\n\nCome join us for the Ribbon Cutting!
X-ALT-DESC;FMTTYPE=text/html:The new location of Noodles &amp\; Company will be opening in the Levee District!<br />\nCome join us for the Ribbon Cutting!
LOCATION:Levee District 358 W. Washington St. East Peoria\, IL. 61611
UID:e.526.1238
SEQUENCE:3
DTSTAMP:20260425T134647Z
URL:https://business.epcc.org/events/details/epcc-2014-ribbon-cutting-noodles-co-11-03-2014-1238
END:VEVENT

END:VCALENDAR
