BEGIN:VCALENDAR
VERSION:2.0
PRODID:-//ChamberMaster//Event Calendar 2.0//EN
METHOD:PUBLISH
X-PUBLISHED-TTL:P3D
REFRESH-INTERVAL:P3D
CALSCALE:GREGORIAN
BEGIN:VEVENT
DTSTART:20141111T173000Z
DTEND:20141111T180000Z
X-MICROSOFT-CDO-ALLDAYEVENT:FALSE
SUMMARY:EPCC - 2014 Ribbon Cutting - The Wireless Store
DESCRIPTION:Ribbon Cutting at The Wireless Store\n\nJoin us as we celebrate the remodeling and grand re-opening of their East Peoria location with a Ribbon Cutting.
X-ALT-DESC;FMTTYPE=text/html:Ribbon Cutting at The Wireless Store<br />\nJoin us as we celebrate the remodeling and grand re-opening of their East Peoria location with a Ribbon Cutting.
LOCATION:829 W. Camp Ave. East Peoria\, IL. 61611
UID:e.526.1256
SEQUENCE:3
DTSTAMP:20260425T134647Z
URL:https://business.epcc.org/events/details/epcc-2014-ribbon-cutting-the-wireless-store-11-11-2014-1256
END:VEVENT

END:VCALENDAR
