BEGIN:VCALENDAR
VERSION:2.0
PRODID:-//ChamberMaster//Event Calendar 2.0//EN
METHOD:PUBLISH
X-PUBLISHED-TTL:P3D
REFRESH-INTERVAL:P3D
CALSCALE:GREGORIAN
BEGIN:VEVENT
DTSTART:20140626T180000Z
DTEND:20140626T220000Z
X-MICROSOFT-CDO-ALLDAYEVENT:FALSE
SUMMARY:EPCC - 2014 Terry Brewer Memorial Golf Classic
DESCRIPTION:Form a team and hit the links for a good time and good cause! The annual outing attracts over 100 golfers\, includes food and prizes\, and offers an active day with fellow Chamber members and their guests.\n\n\n\nProceeds from the outing support the Terry Brewer Memorial Scholarship and the East Peoria Chamber of Commerce Business Scholarship\, awarded annually to two East Peoria Community High School students.
X-ALT-DESC;FMTTYPE=text/html:Form a team and hit the links for a good time and good cause! The annual outing attracts over 100 golfers\, includes food and prizes\, and offers an active day with fellow Chamber members and their guests.<br />\n<br />\nProceeds from the outing support the Terry Brewer Memorial Scholarship and the East Peoria Chamber of Commerce Business Scholarship\, awarded annually to two East Peoria Community High School students.
LOCATION:Quail Meadows Golf Course 2215 Centennial Drive East Peoria\, IL 61611
UID:e.526.914
SEQUENCE:3
DTSTAMP:20260425T214729Z
URL:https://business.epcc.org/events/details/epcc-2014-terry-brewer-memorial-golf-classic-06-26-2014-914
END:VEVENT

END:VCALENDAR
