BEGIN:VCALENDAR
VERSION:2.0
PRODID:-//ChamberMaster//Event Calendar 2.0//EN
METHOD:PUBLISH
X-PUBLISHED-TTL:P3D
REFRESH-INTERVAL:P3D
CALSCALE:GREGORIAN
BEGIN:VEVENT
DTSTART:20150124T000000Z
DTEND:20150124T030000Z
X-MICROSOFT-CDO-ALLDAYEVENT:FALSE
SUMMARY:EPCC - 2015 Annual Dinner
DESCRIPTION:It's more than just a dinner - it's a celebration of the past year of business in our community. The event recaps programs and events\, highlights member achievement\, and awards the East Peoria Distinguished Citizen\, Company of the Year\, Ambassador of the Year and Green Company of the Year.\n\n\n\nThis year's guest speaker is Dennis Triggs from Miller\, Hall & Triggs.
X-ALT-DESC;FMTTYPE=text/html:It&#39\;s more than just a dinner - it&#39\;s a celebration of the past year of business in our community. The event recaps programs and events\, highlights member achievement\, and awards the East Peoria Distinguished Citizen\, Company of the Year\, Ambassador of the Year and Green Company of the Year.<br />\n<br />\nThis year&#39\;s guest speaker is Dennis Triggs from Miller\, Hall &amp\; Triggs.
LOCATION:Par-A-Dice Hotel Ballroom 21 Blackjack Blvd. East Peoria\, IL. 61611
UID:e.526.1252
SEQUENCE:3
DTSTAMP:20260425T104652Z
URL:https://business.epcc.org/events/details/epcc-2015-annual-dinner-01-23-2015-1252
END:VEVENT

END:VCALENDAR
