BEGIN:VCALENDAR
VERSION:2.0
PRODID:-//ChamberMaster//Event Calendar 2.0//EN
METHOD:PUBLISH
X-PUBLISHED-TTL:P3D
REFRESH-INTERVAL:P3D
CALSCALE:GREGORIAN
BEGIN:VEVENT
DTSTART:20150618T220000Z
DTEND:20150619T000000Z
X-MICROSOFT-CDO-ALLDAYEVENT:FALSE
SUMMARY:EPCC - 2015 Business After Hours June
DESCRIPTION:Liberty Termite & Pest Control\,  Holiday Inn/Johnny's Steakhouse have teamed up for a Business After Hours on June 18\, 2015
X-ALT-DESC;FMTTYPE=text/html:Liberty Termite &amp\; Pest Control\, &nbsp\;Holiday Inn/Johnny&#39\;s Steakhouse have teamed up for a Business After Hours on June 18\, 2015
LOCATION:Holiday Inn & Johnny's Steakhouse 101 Holiday Drive East Peoria\, IL 61611
UID:e.526.1643
SEQUENCE:3
DTSTAMP:20260425T031543Z
URL:https://business.epcc.org/events/details/epcc-2015-business-after-hours-june-06-18-2015-1643
END:VEVENT

END:VCALENDAR
