BEGIN:VCALENDAR
VERSION:2.0
PRODID:-//ChamberMaster//Event Calendar 2.0//EN
METHOD:PUBLISH
X-PUBLISHED-TTL:P3D
REFRESH-INTERVAL:P3D
CALSCALE:GREGORIAN
BEGIN:VEVENT
DTSTART:20150605T120000Z
DTEND:20150605T140000Z
X-MICROSOFT-CDO-ALLDAYEVENT:FALSE
SUMMARY:EPCC - 2015 Eggs & Issues June
DESCRIPTION:Mark your calendar and join us for this informative event and networking opportunity.\n\n\n\nState Legislative Update\n\nSpeakers:\n\nSenator Dave Koehler\n\nSenator Darin LaHood\n\nRepresentative Keith Sommer*\n\n\n\n*Contingent upon House being adjourned.
X-ALT-DESC;FMTTYPE=text/html:<span style="color: rgb(0\, 0\, 205)\;"><em><strong>Mark your calendar and join us for this informative event and networking opportunity.</strong></em></span><br />\n<br />\n<u><strong>State Legislative Update</strong></u><br />\nSpeakers:<br />\nSenator Dave Koehler<br />\nSenator Darin LaHood<br />\nRepresentative Keith Sommer*<br />\n<br />\n<span style="font-size: 9px\;"><em>*Contingent upon House being adjourned.</em></span><br />\n<br />\n&nbsp\;
LOCATION:Par-A-Dice Hotel Ballroom 21 Blackjack Boulevard East Peoria\, IL. 61611
UID:e.526.1563
SEQUENCE:3
DTSTAMP:20260425T032520Z
URL:https://business.epcc.org/events/details/epcc-2015-eggs-issues-june-06-05-2015-1563
END:VEVENT

END:VCALENDAR
