BEGIN:VCALENDAR
VERSION:2.0
PRODID:-//ChamberMaster//Event Calendar 2.0//EN
METHOD:PUBLISH
X-PUBLISHED-TTL:P3D
REFRESH-INTERVAL:P3D
CALSCALE:GREGORIAN
BEGIN:VEVENT
DTSTART:20151106T130000Z
DTEND:20151106T150000Z
X-MICROSOFT-CDO-ALLDAYEVENT:FALSE
SUMMARY:EPCC - 2015 Eggs & Issues November
DESCRIPTION:The topic this month is\n\nThe Importance of Community Service in the Region.\n\nOur guest speaker is\n\nJudith Gethner\, Executive Director of Illinois Partners.\n\nMake sure to join us for this informative networking event.
X-ALT-DESC;FMTTYPE=text/html:The topic this month is<br />\n<span style="color: rgb(0\, 0\, 205)\;"><strong>The Importance of Community Service in the Region</strong></span>.<br />\nOur guest speaker is<br />\n<strong><span style="color: rgb(0\, 0\, 205)\;">Judith Gethner</span>\, Executive Director of Illinois Partners.<br />\nMake sure to join us for this informative networking event.</strong><br />\n&nbsp\;
LOCATION:Par-A-Dice Hotel Ballroom 21 Blackjack Boulevard East Peoria\, IL. 61611
UID:e.526.1568
SEQUENCE:3
DTSTAMP:20260424T203606Z
URL:https://business.epcc.org/events/details/epcc-2015-eggs-issues-november-11-06-2015-1568
END:VEVENT

END:VCALENDAR
