BEGIN:VCALENDAR
VERSION:2.0
PRODID:-//ChamberMaster//Event Calendar 2.0//EN
METHOD:PUBLISH
X-PUBLISHED-TTL:P3D
REFRESH-INTERVAL:P3D
CALSCALE:GREGORIAN
BEGIN:VEVENT
DTSTART:20151001T210000Z
DTEND:20151002T000000Z
X-MICROSOFT-CDO-ALLDAYEVENT:FALSE
SUMMARY:EPCC - 2015 EPCC Premiere Business Expo
DESCRIPTION:East Peoria Chamber of Commerce's Business Expo is a great way to showcase your business. Business leaders from a wide variety of organizations attend this annual event\, making this the best place to get in touch with potential clients.  Participating companies have included small businesses\, non-profits\, and some of the area's largest employers. \n\n\n\nWe will also have a "mini taste of East Peoria" again this year.  Greg Batton will be our Emcee and will come to your booth and announce  if you have a drawing.\n\n\n\nIf you have special requests\, ie.\, against the wall\, oversized display\, etc\, please note that in the comments when you register.  We will try to accommodate all requests.       \n\n\n\nAll exhibitors must sign and return an Identification Form.\n\n\n\n\n\nCHAMBER MEMBERS ONLY!!
X-ALT-DESC;FMTTYPE=text/html:<div style="color: gray\;">\n<div><span style="color: rgb(0\, 0\, 0)\;">East Peoria Chamber of Commerce&#39\;s Business Expo&nbsp\;is a great way to showcase your business.&nbsp\;Business leaders from a wide variety of organizations attend this annual event\, making this the best place to get in touch with potential clients.&nbsp\;&nbsp\;Participating companies have included small businesses\, non-profits\,&nbsp\;and&nbsp\;some of the area&rsquo\;s largest employers.&nbsp\;<br />\n<br />\nWe will also have a &quot\;mini taste of East Peoria&quot\; again this year.&nbsp\; Greg Batton will be our Emcee and will come to your booth and announce&nbsp\;&nbsp\;if you have a drawing.</span><br />\n<br />\n<span style="color: rgb(0\, 0\, 0)\;">If you have special requests\, ie.\, against the wall\, oversized display\, etc\, please&nbsp\;note that in the comments when you register.&nbsp\; We will try to accommodate all requests.&nbsp\;&nbsp\;</span>&nbsp\;&nbsp\;&nbsp\;&nbsp\;&nbsp\;<br />\n<br />\n<span style="color: rgb(0\, 0\, 0)\;">All exhibitors must sign and return an Identification Form.</span><br />\n<br />\n<br />\nCHAMBER MEMBERS ONLY!!<br />\n&nbsp\;</div>\n</div>\n
LOCATION:Par-A-Dice Hotel 21 Blackjack Blvd. East Peoria\, IL. 61611
UID:e.526.1567
SEQUENCE:3
DTSTAMP:20260424T215542Z
URL:https://business.epcc.org/events/details/epcc-2015-epcc-premiere-business-expo-10-01-2015-1567
END:VEVENT

END:VCALENDAR
